Workbook

Sheet Self Assessment
A1: Domain | B1: Control Type | C1: Control ID | D1: Control Name | E1: In Scope (Y/N) | F1: Maturity Score | G1: POAM Notes | H1: POAM Due Date | I1: Maturity Numeric
A2: GOV | B2: Directive | C2: GOV-01 | D2: Governance Structure
A3: GOV | B3: Directive | C3: GOV-02 | D3: Roles & Responsibilities
A4: GOV | B4: Directive | C4: GOV-03 | D4: Executive Oversight
A5: GOV | B5: Directive | C5: GOV-04 | D5: Policy Framework
A6: GOV | B6: Directive | C6: GOV-05 | D6: Legal & Regulatory Compliance
A7: GOV | B7: Directive | C7: GOV-06 | D7: Risk Appetite & Tolerance
A8: GOV | B8: Directive | C8: GOV-07 | D8: Ethics & Responsible AI
A9: GOV | B9: Directive | C9: GOV-08 | D9: Performance Reporting
A10: GOV | B10: Directive | C10: GOV-09 | D10: Internal Audit Program
A11: GOV | B11: Directive | C11: GOV-10 | D11: Continuous Improvement
A12: GOV | B12: Directive | C12: GOV-11 | D12: Data Subject Rights Management
A13: GOV | B13: Directive | C13: GOV-12 | D13: AI Transparency & Disclosure
... A138: IMPROVE | B138: Directive / Detective | C138: IMPROVE-12 | D138: Continuous Compliance Monitoring

Sheet Dashboard
B15: Domain | C15: Average Maturity | D15: In-Scope Controls | E15: POAM Items | G15: Overall Maturity Score | H15: =IFERROR(SUMIFS('Self Assessment'!$I$2:$I$138,'Self Assessment'!$E$2:$E$138,"Y")/COUNTIFS('Self Assessment'!$E$2:$E$138,"Y"),"") | J15: Maturity Scoring Key
B16: GOV | C16: =IFERROR(SUMIFS('Self Assessment'!$I$2:$I$138,'Self Assessment'!$A$2:$A$138,B16,'Self Assessment'!$E$2:$E$138,"Y")/COUNTIFS('Self Assessment'!$A$2:$A$138,B16,'Self Assessment'!$E$2:$E$138,"Y"),"") | D16: =COUNTIFS('Self Assessment'!$A$2:$A$138,B16,'Self Assessment'!$E$2:$E$138,"Y") -> 0 | E16: =COUNTIFS('Self Assessment'!$A$2:$A$138,B16,'Self Assessment'!$E$2:$E$138,"Y",'Self Assessment'!$G$2:$G$138,"<>") -> 0 | G16: In-Scope Controls | H16: =COUNTIF('Self Assessment'!$E$2:$E$138,"Y") -> 0 | J16: 0 | K16: Nonexistent / N/A
B17: RISK | C17: =IFERROR(SUMIFS('Self Assessment'!$I$2:$I$138,'Self Assessment'!$A$2:$A$138,B17,'Self Assessment'!$E$2:$E$138,"Y")/COUNTIFS('Self Assessment'!$A$2:$A$138,B17,'Self Assessment'!$E$2:$E$138,"Y"),"") | D17: =COUNTIFS('Self Assessment'!$A$2:$A$138,B17,'Self Assessment'!$E$2:$E$138,"Y") -> 0 | E17: =COUNTIFS('Self Assessment'!$A$2:$A$138,B17,'Self Assessment'!$E$2:$E$138,"Y",'Self Assessment'!$G$2:$G$138,"<>") -> 0 | G17: POAM Items | H17: =COUNTIFS('Self Assessment'!$E$2:$E$138,"Y",'Self Assessment'!$G$2:$G$138,"<>") -> 0 | J17: 1 | K17: Initial / Ad Hoc
B18: AILC | C18: =IFERROR(SUMIFS('Self Assessment'!$I$2:$I$138,'Self Assessment'!$A$2:$A$138,B18,'Self Assessment'!$E$2:$E$138,"Y")/COUNTIFS('Self Assessment'!$A$2:$A$138,B18,'Self Assessment'!$E$2:$E$138,"Y"),"") | D18: =COUNTIFS('Self Assessment'!$A$2:$A$138,B18,'Self Assessment'!$E$2:$E$138,"Y") -> 0 | E18: =COUNTIFS('Self Assessment'!$A$2:$A$138,B18,'Self Assessment'!$E$2:$E$138,"Y",'Self Assessment'!$G$2:$G$138,"<>") -> 0 | G18: Overdue POAM Items | H18: =COUNTIFS('Self Assessment'!$E$2:$E$138,"Y",'Self Assessment'!$G$2:$G$138,"<>",'Self Assessment'!$H$2:$H$138,"<>",'Self Assessment'!$H$2:$H$138,"<"&TODAY()) -> 0 | J18: 2 | K18: Defined
B19: ASSET | C19: =IFERROR(SUMIFS('Self Assessment'!$I$2:$I$138,'Self Assessment'!$A$2:$A$138,B19,'Self Assessment'!$E$2:$E$138,"Y")/COUNTIFS('Self Assessment'!$A$2:$A$138,B19,'Self Assessment'!$E$2:$E$138,"Y"),"") | D19: =COUNTIFS('Self Assessment'!$A$2:$A$138,B19,'Self Assessment'!$E$2:$E$138,"Y") -> 0 | E19: =COUNTIFS('Self Assessment'!$A$2:$A$138,B19,'Self Assessment'!$E$2:$E$138,"Y",'Self Assessment'!$G$2:$G$138,"<>") -> 0 | J19: 3 | K19: Implemented / Repeatable
B20: IAM | C20: =IFERROR(SUMIFS('Self Assessment'!$I$2:$I$138,'Self Assessment'!$A$2:$A$138,B20,'Self Assessment'!$E$2:$E$138,"Y")/COUNTIFS('Self Assessment'!$A$2:$A$138,B20,'Self Assessment'!$E$2:$E$138,"Y"),"") | D20: =COUNTIFS('Self Assessment'!$A$2:$A$138,B20,'Self Assessment'!$E$2:$E$138,"Y") -> 0 | E20: =COUNTIFS('Self Assessment'!$A$2:$A$138,B20,'Self Assessment'!$E$2:$E$138,"Y",'Self Assessment'!$G$2:$G$138,"<>") -> 0 | J20: 4 | K20: Managed / Measured
B21: PROTECT | C21: =IFERROR(SUMIFS('Self Assessment'!$I$2:$I$138,'Self Assessment'!$A$2:$A$138,B21,'Self Assessment'!$E$2:$E$138,"Y")/COUNTIFS('Self Assessment'!$A$2:$A$138,B21,'Self Assessment'!$E$2:$E$138,"Y"),"") | D21: =COUNTIFS('Self Assessment'!$A$2:$A$138,B21,'Self Assessment'!$E$2:$E$138,"Y") -> 0 | E21: =COUNTIFS('Self Assessment'!$A$2:$A$138,B21,'Self Assessment'!$E$2:$E$138,"Y",'Self Assessment'!$G$2:$G$138,"<>") -> 0 | J21: 5 | K21: Optimized
B22: DETECT | C22: =IFERROR(SUMIFS('Self Assessment'!$I$2:$I$138,'Self Assessment'!$A$2:$A$138,B22,'Self Assessment'!$E$2:$E$138,"Y")/COUNTIFS('Self Assessment'!$A$2:$A$138,B22,'Self Assessment'!$E$2:$E$138,"Y"),"") | D22: =COUNTIFS('Self Assessment'!$A$2:$A$138,B22,'Self Assessment'!$E$2:$E$138,"Y") -> 0 | E22: =COUNTIFS('Self Assessment'!$A$2:$A$138,B22,'Self Assessment'!$E$2:$E$138,"Y",'Self Assessment'!$G$2:$G$138,"<>") -> 0
B23: RESPOND | C23: =IFERROR(SUMIFS('Self Assessment'!$I$2:$I$138,'Self Assessment'!$A$2:$A$138,B23,'Self Assessment'!$E$2:$E$138,"Y")/COUNTIFS('Self Assessment'!$A$2:$A$138,B23,'Self Assessment'!$E$2:$E$138,"Y"),"") | D23: =COUNTIFS('Self Assessment'!$A$2:$A$138,B23,'Self Assessment'!$E$2:$E$138,"Y") -> 0 | E23: =COUNTIFS('Self Assessment'!$A$2:$A$138,B23,'Self Assessment'!$E$2:$E$138,"Y",'Self Assessment'!$G$2:$G$138,"<>") -> 0
B24: RECOVER | C24: =IFERROR(SUMIFS('Self Assessment'!$I$2:$I$138,'Self Assessment'!$A$2:$A$138,B24,'Self Assessment'!$E$2:$E$138,"Y")/COUNTIFS('Self Assessment'!$A$2:$A$138,B24,'Self Assessment'!$E$2:$E$138,"Y"),"") | D24: =COUNTIFS('Self Assessment'!$A$2:$A$138,B24,'Self Assessment'!$E$2:$E$138,"Y") -> 0 | E24: =COUNTIFS('Self Assessment'!$A$2:$A$138,B24,'Self Assessment'!$E$2:$E$138,"Y",'Self Assessment'!$G$2:$G$138,"<>") -> 0
B25: IMPROVE | C25: =IFERROR(SUMIFS('Self Assessment'!$I$2:$I$138,'Self Assessment'!$A$2:$A$138,B25,'Self Assessment'!$E$2:$E$138,"Y")/COUNTIFS('Self Assessment'!$A$2:$A$138,B25,'Self Assessment'!$E$2:$E$138,"Y"),"") | D25: =COUNTIFS('Self Assessment'!$A$2:$A$138,B25,'Self Assessment'!$E$2:$E$138,"Y") -> 0 | E25: =COUNTIFS('Self Assessment'!$A$2:$A$138,B25,'Self Assessment'!$E$2:$E$138,"Y",'Self Assessment'!$G$2:$G$138,"<>") -> 0
B27: Control Type / Line of Effort | C27: Average Maturity | D27: Maturity Band | E27: In-Scope Controls
B28: Directive (LOE 1) | C28: =IFERROR((SUMIFS('Self Assessment'!$I$2:$I$138,'Self Assessment'!$E$2:$E$138,"Y",'Self Assessment'!$B$2:$B$138,"Directive")+SUMIFS('Self Assessment'!$I$2:$I$138,'Self Assessment'!$E$2:$E$138,"Y",'Self Assessment'!$B$2:$B$138,"Directive / Corrective")+SUMIFS('Self Assessment'!$I$2:$I$138,'Self Assessment'!$E$2:$E$138,"Y",'Self Assessment'!$B$2:$B$138,"Directive / Detective")+SUMIFS('Self Assessment'!$I$2:$I$138,'Self Assessment'!$E$2:$E$138,"Y",'Self Assessment'!$B$2:$B$138,"Directive / Preventive"))/(COUNTIFS('Self Assessment'!$E$2:$E$138,"Y",'Self Assessment'!$B$2:$B$138,"Directive")+COUNTIFS('Self Assessment'!$E$2:$E$138,"Y",'Self Assessment'!$B$2:$B$138,"Directive / Corrective")+COUNTIFS('Self Assessment'!$E$2:$E$138,"Y",'Self Assessment'!$B$2:$B$138,"Directive / Detective")+COUNTIFS('Self Assessment'!$E$2:$E$138,"Y",'Self Assessment'!$B$2:$B$138,"Directive / Preventive")),"") | D28: =IF(C28="","",IF(C28<1,"0 to 1 - Nonexistent to Initial",IF(C28<2,"1 to 2 - Initial to Defined",IF(C28<3,"2 to 3 - Defined to Implemented",IF(C28<4,"3 to 4 - Implemented to Managed","4 to 5 - Managed to Optimized"))))) | E28: =COUNTIFS('Self Assessment'!$E$2:$E$138,"Y",'Self Assessment'!$B$2:$B$138,"Directive")+COUNTIFS('Self Assessment'!$E$2:$E$138,"Y",'Self Assessment'!$B$2:$B$138,"Directive / Corrective")+COUNTIFS('Self Assessment'!$E$2:$E$138,"Y",'Self Assessment'!$B$2:$B$138,"Directive / Detective")+COUNTIFS('Self Assessment'!$E$2:$E$138,"Y",'Self Assessment'!$B$2:$B$138,"Directive / Preventive") -> 0
B29: Preventive (LOE 2) | C29: =IFERROR((SUMIFS('Self Assessment'!$I$2:$I$138,'Self Assessment'!$E$2:$E$138,"Y",'Self Assessment'!$B$2:$B$138,"Corrective / Preventive")+SUMIFS('Self Assessment'!$I$2:$I$138,'Self Assessment'!$E$2:$E$138,"Y",'Self Assessment'!$B$2:$B$138,"Detective / Preventive")+SUMIFS('Self Assessment'!$I$2:$I$138,'Self Assessment'!$E$2:$E$138,"Y",'Self Assessment'!$B$2:$B$138,"Directive / Preventive")+SUMIFS('Self Assessment'!$I$2:$I$138,'Self Assessment'!$E$2:$E$138,"Y",'Self Assessment'!$B$2:$B$138,"Preventive")+SUMIFS('Self Assessment'!$I$2:$I$138,'Self Assessment'!$E$2:$E$138,"Y",'Self Assessment'!$B$2:$B$138,"Preventive / Detective"))/(COUNTIFS('Self Assessment'!$E$2:$E$138,"Y",'Self Assessment'!$B$2:$B$138,"Corrective / Preventive")+COUNTIFS('Self Assessment'!$E$2:$E$138,"Y",'Self Assessment'!$B$2:$B$138,"Detective / Preventive")+COUNTIFS('Self Assessment'!$E$2:$E$138,"Y",'Self Assessment'!$B$2:$B$138,"Directive / Preventive")+COUNTIFS('Self Assessment'!$E$2:$E$138,"Y",'Self Assessment'!$B$2:$B$138,"Preventive")+COUNTIFS('Self Assessment'!$E$2:$E$138,"Y",'Self Assessment'!$B$2:$B$138,"Preventive / Detective")),"") | D29: =IF(C29="","",IF(C29<1,"0 to 1 - Nonexistent to Initial",IF(C29<2,"1 to 2 - Initial to Defined",IF(C29<3,"2 to 3 - Defined to Implemented",IF(C29<4,"3 to 4 - Implemented to Managed","4 to 5 - Managed to Optimized"))))) | E29: =COUNTIFS('Self Assessment'!$E$2:$E$138,"Y",'Self Assessment'!$B$2:$B$138,"Corrective / Preventive")+COUNTIFS('Self Assessment'!$E$2:$E$138,"Y",'Self Assessment'!$B$2:$B$138,"Detective / Preventive")+COUNTIFS('Self Assessment'!$E$2:$E$138,"Y",'Self Assessment'!$B$2:$B$138,"Directive / Preventive")+COUNTIFS('Self Assessment'!$E$2:$E$138,"Y",'Self Assessment'!$B$2:$B$138,"Preventive")+COUNTIFS('Self Assessment'!$E$2:$E$138,"Y",'Self Assessment'!$B$2:$B$138,"Preventive / Detective") -> 0
B30: Detective (LOE 3) | C30: =IFERROR((SUMIFS('Self Assessment'!$I$2:$I$138,'Self Assessment'!$E$2:$E$138,"Y",'Self Assessment'!$B$2:$B$138,"Corrective / Detective")+SUMIFS('Self Assessment'!$I$2:$I$138,'Self Assessment'!$E$2:$E$138,"Y",'Self Assessment'!$B$2:$B$138,"Detective")+SUMIFS('Self Assessment'!$I$2:$I$138,'Self Assessment'!$E$2:$E$138,"Y",'Self Assessment'!$B$2:$B$138,"Detective / Corrective")+SUMIFS('Self Assessment'!$I$2:$I$138,'Self Assessment'!$E$2:$E$138,"Y",'Self Assessment'!$B$2:$B$138,"Detective / Preventive")+SUMIFS('Self Assessment'!$I$2:$I$138,'Self Assessment'!$E$2:$E$138,"Y",'Self Assessment'!$B$2:$B$138,"Directive / Detective")+SUMIFS('Self Assessment'!$I$2:$I$138,'Self Assessment'!$E$2:$E$138,"Y",'Self Assessment'!$B$2:$B$138,"Preventive / Detective"))/(COUNTIFS('Self Assessment'!$E$2:$E$138,"Y",'Self Assessment'!$B$2:$B$138,"Corrective / Detective")+COUNTIFS('Self Assessment'!$E$2:$E$138,"Y",'Self Assessment'!$B$2:$B$138,"Detective")+COUNTIFS('Self Assessment'!$E$2:$E$138,"Y",'Self Assessment'!$B$2:$B$138,"Detective / Corrective")+COUNTIFS('Self Assessment'!$E$2:$E$138,"Y",'Self Assessment'!$B$2:$B$138,"Detective / Preventive")+COUNTIFS('Self Assessment'!$E$2:$E$138,"Y",'Self Assessment'!$B$2:$B$138,"Directive / Detective")+COUNTIFS('Self Assessment'!$E$2:$E$138,"Y",'Self Assessment'!$B$2:$B$138,"Preventive / Detective")),"") | D30: =IF(C30="","",IF(C30<1,"0 to 1 - Nonexistent to Initial",IF(C30<2,"1 to 2 - Initial to Defined",IF(C30<3,"2 to 3 - Defined to Implemented",IF(C30<4,"3 to 4 - Implemented to Managed","4 to 5 - Managed to Optimized"))))) | E30: =COUNTIFS('Self Assessment'!$E$2:$E$138,"Y",'Self Assessment'!$B$2:$B$138,"Corrective / Detective")+COUNTIFS('Self Assessment'!$E$2:$E$138,"Y",'Self Assessment'!$B$2:$B$138,"Detective")+COUNTIFS('Self Assessment'!$E$2:$E$138,"Y",'Self Assessment'!$B$2:$B$138,"Detective / Corrective")+COUNTIFS('Self Assessment'!$E$2:$E$138,"Y",'Self Assessment'!$B$2:$B$138,"Detective / Preventive")+COUNTIFS('Self Assessment'!$E$2:$E$138,"Y",'Self Assessment'!$B$2:$B$138,"Directive / Detective")+COUNTIFS('Self Assessment'!$E$2:$E$138,"Y",'Self Assessment'!$B$2:$B$138,"Preventive / Detective") -> 0
B31: Corrective / Responsive (LOE 4) | C31: =IFERROR((SUMIFS('Self Assessment'!$I$2:$I$138,'Self Assessment'!$E$2:$E$138,"Y",'Self Assessment'!$B$2:$B$138,"Corrective / Detective")+SUMIFS('Self Assessment'!$I$2:$I$138,'Self Assessment'!$E$2:$E$138,"Y",'Self Assessment'!$B$2:$B$138,"Corrective / Preventive")+SUMIFS('Self Assessment'!$I$2:$I$138,'Self Assessment'!$E$2:$E$138,"Y",'Self Assessment'!$B$2:$B$138,"Corrective / Responsive")+SUMIFS('Self Assessment'!$I$2:$I$138,'Self Assessment'!$E$2:$E$138,"Y",'Self Assessment'!$B$2:$B$138,"Detective / Corrective")+SUMIFS('Self Assessment'!$I$2:$I$138,'Self Assessment'!$E$2:$E$138,"Y",'Self Assessment'!$B$2:$B$138,"Directive / Corrective"))/(COUNTIFS('Self Assessment'!$E$2:$E$138,"Y",'Self Assessment'!$B$2:$B$138,"Corrective / Detective")+COUNTIFS('Self Assessment'!$E$2:$E$138,"Y",'Self Assessment'!$B$2:$B$138,"Corrective / Preventive")+COUNTIFS('Self Assessment'!$E$2:$E$138,"Y",'Self Assessment'!$B$2:$B$138,"Corrective / Responsive")+COUNTIFS('Self Assessment'!$E$2:$E$138,"Y",'Self Assessment'!$B$2:$B$138,"Detective / Corrective")+COUNTIFS('Self Assessment'!$E$2:$E$138,"Y",'Self Assessment'!$B$2:$B$138,"Directive / Corrective")),"") | D31: =IF(C31="","",IF(C31<1,"0 to 1 - Nonexistent to Initial",IF(C31<2,"1 to 2 - Initial to Defined",IF(C31<3,"2 to 3 - Defined to Implemented",IF(C31<4,"3 to 4 - Implemented to Managed","4 to 5 - Managed to Optimized"))))) | E31: =COUNTIFS('Self Assessment'!$E$2:$E$138,"Y",'Self Assessment'!$B$2:$B$138,"Corrective / Detective")+COUNTIFS('Self Assessment'!$E$2:$E$138,"Y",'Self Assessment'!$B$2:$B$138,"Corrective / Preventive")+COUNTIFS('Self Assessment'!$E$2:$E$138,"Y",'Self Assessment'!$B$2:$B$138,"Corrective / Responsive")+COUNTIFS('Self Assessment'!$E$2:$E$138,"Y",'Self Assessment'!$B$2:$B$138,"Detective / Corrective")+COUNTIFS('Self Assessment'!$E$2:$E$138,"Y",'Self Assessment'!$B$2:$B$138,"Directive / Corrective") -> 0
B33: Scope-aware: averages include only controls marked In Scope = Y. Hybrid controls contribute to every applicable control type.

Sheet EXAMPLE Self Assessment
A1: Domain | B1: Control Type | C1: Control ID | D1: Control Name | E1: In Scope (Y/N) | F1: Maturity Score | G1: POAM Notes | H1: POAM Due Date | I1: Maturity Numeric
A2: GOV | B2: Directive | C2: GOV-01 | D2: Governance Structure | E2: Y | F2: 2 | I2: =IF(F2="","",VALUE(LEFT(F2,1))) -> 2
A3: GOV | B3: Directive | C3: GOV-02 | D3: Roles & Responsibilities | E3: Y | F3: 2 | I3: =IF(F3="","",VALUE(LEFT(F3,1))) -> 2
A4: GOV | B4: Directive | C4: GOV-03 | D4: Executive Oversight | E4: Y | F4: 3 | I4: =IF(F4="","",VALUE(LEFT(F4,1))) -> 3
A5: GOV | B5: Directive | C5: GOV-04 | D5: Policy Framework | E5: Y | F5: 3 | I5: =IF(F5="","",VALUE(LEFT(F5,1))) -> 3
A6: GOV | B6: Directive | C6: GOV-05 | D6: Legal & Regulatory Compliance | E6: Y | F6: 2 | I6: =IF(F6="","",VALUE(LEFT(F6,1))) -> 2
A7: GOV | B7: Directive | C7: GOV-06 | D7: Risk Appetite & Tolerance | E7: Y | F7: 2 | I7: =IF(F7="","",VALUE(LEFT(F7,1))) -> 2
A8: GOV | B8: Directive | C8: GOV-07 | D8: Ethics & Responsible AI | E8: Y | F8: 1 | I8: =IF(F8="","",VALUE(LEFT(F8,1))) -> 1
A9: GOV | B9: Directive | C9: GOV-08 | D9: Performance Reporting | E9: Y | F9: 3 | I9: =IF(F9="","",VALUE(LEFT(F9,1))) -> 3
A10: GOV | B10: Directive | C10: GOV-09 | D10: Internal Audit Program | E10: Y | F10: 2 | I10: =IF(F10="","",VALUE(LEFT(F10,1))) -> 2
A11: GOV | B11: Directive | C11: GOV-10 | D11: Continuous Improvement | E11: Y | F11: 3 | I11: =IF(F11="","",VALUE(LEFT(F11,1))) -> 3
A12: GOV | B12: Directive | C12: GOV-11 | D12: Data Subject Rights Management | E12: Y | F12: 2 | I12: =IF(F12="","",VALUE(LEFT(F12,1))) -> 2
A13: GOV | B13: Directive | C13: GOV-12 | D13: AI Transparency & Disclosure | E13: Y | F13: 3 | I13: =IF(F13="","",VALUE(LEFT(F13,1))) -> 3
... A23: RISK | B23: Directive | C23: RISK-09 | D23: Algorithmic Impact Assessment | E23: Y | F23: 2 | I23: =IF(F23="","",VALUE(LEFT(F23,1))) -> 2
A24: RISK | B24: Directive | C24: RISK-10 | D24: High-Risk User Protection | E24: N | I24: =IF(F24="","",VALUE(LEFT(F24,1)))
A25: RISK | B25: Directive | C25: RISK-11 | D25: AI Risk Scoring & Classification | E25: Y | F25: 3 | I25: =IF(F25="","",VALUE(LEFT(F25,1))) -> 3
A26: AILC | B26: Directive | C26: AILC-01 | D26: AI Use Case Intake & Approval | E26: Y | F26: 2 | I26: =IF(F26="","",VALUE(LEFT(F26,1))) -> 2
A27: AILC | B27: Directive | C27: AILC-02 | D27: AI System Classification | E27: Y | F27: 3 | I27: =IF(F27="","",VALUE(LEFT(F27,1))) -> 3
A28: AILC | B28: Directive / Preventive | C28: AILC-03 | D28: Intended Use & Misuse Definition | E28: Y | F28: 2 | I28: =IF(F28="","",VALUE(LEFT(F28,1))) -> 2
A29: AILC | B29: Directive | C29: AILC-04 | D29: AI Design & Development Controls | E29: Y | F29: 3 | I29: =IF(F29="","",VALUE(LEFT(F29,1))) -> 3
A30: AILC | B30: Preventive / Detective | C30: AILC-05 | D30: Training Data Governance | E30: N | I30: =IF(F30="","",VALUE(LEFT(F30,1)))
A31: AILC | B31: Preventive | C31: AILC-06 | D31: Model Validation Before Deployment | E31: Y | F31: 3 | I31: =IF(F31="","",VALUE(LEFT(F31,1))) -> 3
A32: AILC | B32: Preventive | C32: AILC-07 | D32: Human Oversight Requirements | E32: Y | F32: 2 | I32: =IF(F32="","",VALUE(LEFT(F32,1))) -> 2
A33: AILC | B33: Detective | C33: AILC-08 | D33: Deployment Authorization & Release Control | E33: Y | F33: 3 | I33: =IF(F33="","",VALUE(LEFT(F33,1))) -> 3
A34: AILC | B34: Detective | C34: AILC-09 | D34: AI System Monitoring | E34: Y | F34: 1 | I34: =IF(F34="","",VALUE(LEFT(F34,1))) -> 1
A35: AILC | B35: Directive | C35: AILC-10 | D35: AI System Retirement & Decommissioning | E35: Y | F35: 3 | I35: =IF(F35="","",VALUE(LEFT(F35,1))) -> 3
A36: AILC | B36: Corrective / Responsive | C36: AILC-11 | D36: Model Explainability & Traceability | E36: Y | F36: 2 | I36: =IF(F36="","",VALUE(LEFT(F36,1))) -> 2
A37: ASSET | B37: Directive | C37: ASSET-01 | D37: Asset Inventory | E37: Y | F37: 3 | I37: =IF(F37="","",VALUE(LEFT(F37,1))) -> 3
A38: ASSET | B38: Directive | C38: ASSET-02 | D38: Data Inventory | E38: Y | F38: 3 | I38: =IF(F38="","",VALUE(LEFT(F38,1))) -> 3
A39: ASSET | B39: Directive | C39: ASSET-03 | D39: Data Classification | E39: Y | F39: 2 | I39: =IF(F39="","",VALUE(LEFT(F39,1))) -> 2
A40: ASSET | B40: Directive | C40: ASSET-04 | D40: Data Handling & Protection Requirements | E40: Y | F40: 3 | I40: =IF(F40="","",VALUE(LEFT(F40,1))) -> 3
A41: ASSET | B41: Directive / Preventive | C41: ASSET-05 | D41: Data Lifecycle Management | E41: Y | F41: 3 | I41: =IF(F41="","",VALUE(LEFT(F41,1))) -> 3
A42: ASSET | B42: Detective | C42: ASSET-06 | D42: Asset Ownership & Accountability | E42: Y | F42: 2 | I42: =IF(F42="","",VALUE(LEFT(F42,1))) -> 2
... A46: ASSET | B46: Preventive | C46: ASSET-10 | D46: Data Quality & Integrity | E46: Y | F46: 4 | I46: =IF(F46="","",VALUE(LEFT(F46,1))) -> 4
A47: ASSET | B47: Directive / Detective | C47: ASSET-11 | D47: Data Minimization & Purpose Limitation | E47: N | I47: =IF(F47="","",VALUE(LEFT(F47,1)))
A48: ASSET | B48: Directive / Preventive | C48: ASSET-12 | D48: Data Sharing & External Transfer | E48: Y | F48: 3 | I48: =IF(F48="","",VALUE(LEFT(F48,1))) -> 3
A49: ASSET | B49: Directive / Preventive | C49: ASSET-13 | D49: Asset Protection Requirements Definition | E49: Y | F49: 3 | I49: =IF(F49="","",VALUE(LEFT(F49,1))) -> 3
A50: IAM | B50: Preventive | C50: IAM-01 | D50: Identity Inventory | E50: Y | F50: 3 | I50: =IF(F50="","",VALUE(LEFT(F50,1))) -> 3
A51: IAM | B51: Preventive | C51: IAM-02 | D51: Identity Lifecycle Management | E51: Y | F51: 3 | I51: =IF(F51="","",VALUE(LEFT(F51,1))) -> 3
A52: IAM | B52: Preventive | C52: IAM-03 | D52: Authentication Controls | E52: Y | F52: 4 | I52: =IF(F52="","",VALUE(LEFT(F52,1))) -> 4
A53: IAM | B53: Preventive | C53: IAM-04 | D53: Authorization & Access Control | E53: Y | F53: 3 | I53: =IF(F53="","",VALUE(LEFT(F53,1))) -> 3
A54: IAM | B54: Preventive | C54: IAM-05 | D54: Privileged Access Management | E54: Y | F54: 4 | I54: =IF(F54="","",VALUE(LEFT(F54,1))) -> 4
A55: IAM | B55: Directive / Detective | C55: IAM-06 | D55: Access Review & Recertification | E55: Y | F55: 3 | I55: =IF(F55="","",VALUE(LEFT(F55,1))) -> 3
A56: IAM | B56: Preventive | C56: IAM-07 | D56: Segregation of Duties | E56: Y | F56: 3 | I56: =IF(F56="","",VALUE(LEFT(F56,1))) -> 3
A57: IAM | B57: Preventive | C57: IAM-08 | D57: Remote Access Control | E57: Y | F57: 4 | I57: =IF(F57="","",VALUE(LEFT(F57,1))) -> 4
A58: IAM | B58: Preventive | C58: IAM-09 | D58: Third-Party Access Control | E58: Y | F58: 3 | I58: =IF(F58="","",VALUE(LEFT(F58,1))) -> 3
A59: IAM | B59: Preventive | C59: IAM-10 | D59: Identity Federation & SSO | E59: N | I59: =IF(F59="","",VALUE(LEFT(F59,1)))
A60: IAM | B60: Preventive | C60: IAM-11 | D60: Credential Management | E60: Y | F60: 4 | I60: =IF(F60="","",VALUE(LEFT(F60,1))) -> 4
A61: IAM | B61: Preventive | C61: IAM-12 | D61: Service & Machine Identity Management | E61: Y | F61: 3 | I61: =IF(F61="","",VALUE(LEFT(F61,1))) -> 3
A62: IAM | B62: Directive / Preventive | C62: IAM-13 | D62: Zero Trust Alignment | E62: Y | F62: 4 | I62: =IF(F62="","",VALUE(LEFT(F62,1))) -> 4
A63: PROTECT | B63: Preventive | C63: PROTECT-01 | D63: Cryptographic Controls | E63: Y | F63: 5 | I63: =IF(F63="","",VALUE(LEFT(F63,1))) -> 5
A64: PROTECT | B64: Preventive | C64: PROTECT-02 | D64: Key Management | E64: Y | F64: 4 | I64: =IF(F64="","",VALUE(LEFT(F64,1))) -> 4
A65: PROTECT | B65: Preventive | C65: PROTECT-03 | D65: Secure Configuration Management | E65: Y | F65: 3 | I65: =IF(F65="","",VALUE(LEFT(F65,1))) -> 3
A66: PROTECT | B66: Preventive / Detective | C66: PROTECT-04 | D66: Vulnerability Management | E66: Y | F66: 3 | I66: =IF(F66="","",VALUE(LEFT(F66,1))) -> 3
A67: PROTECT | B67: Preventive | C67: PROTECT-05 | D67: Patch Management | E67: Y | F67: 4 | I67: =IF(F67="","",VALUE(LEFT(F67,1))) -> 4
A68: PROTECT | B68: Preventive | C68: PROTECT-06 | D68: Malware Protection | E68: Y | F68: 4 | I68: =IF(F68="","",VALUE(LEFT(F68,1))) -> 4
A69: PROTECT | B69: Preventive | C69: PROTECT-07 | D69: Network Security Controls | E69: Y | F69: 3 | I69: =IF(F69="","",VALUE(LEFT(F69,1))) -> 3
A70: PROTECT | B70: Preventive | C70: PROTECT-08 | D70: Endpoint Security | E70: Y | F70: 4 | I70: =IF(F70="","",VALUE(LEFT(F70,1))) -> 4
A71: PROTECT | B71: Preventive / Detective | C71: PROTECT-09 | D71: Data Loss Prevention | E71: Y | F71: 3 | I71: =IF(F71="","",VALUE(LEFT(F71,1))) -> 3
... A77: PROTECT | B77: Preventive | C77: PROTECT-15 | D77: Application Security Controls | E77: Y | F77: 4 | I77: =IF(F77="","",VALUE(LEFT(F77,1))) -> 4
A78: PROTECT | B78: Preventive | C78: PROTECT-16 | D78: AI Model Protection | E78: N | I78: =IF(F78="","",VALUE(LEFT(F78,1)))
A79: PROTECT | B79: Preventive | C79: PROTECT-17 | D79: API & Interface Security | E79: Y | F79: 4 | I79: =IF(F79="","",VALUE(LEFT(F79,1))) -> 4
A80: PROTECT | B80: Detective / Preventive | C80: PROTECT-18 | D80: Configuration Drift & Compliance Monitoring | E80: Y | F80: 3 | I80: =IF(F80="","",VALUE(LEFT(F80,1))) -> 3
A81: PROTECT | B81: Preventive | C81: PROTECT-19 | D81: Data Integrity Protection | E81: Y | F81: 4 | I81: =IF(F81="","",VALUE(LEFT(F81,1))) -> 4
A82: PROTECT | B82: Corrective / Preventive | C82: PROTECT-20 | D82: Secure Disposal of Data & Assets | E82: Y | F82: 3 | I82: =IF(F82="","",VALUE(LEFT(F82,1))) -> 3
A83: PROTECT | B83: Preventive | C83: PROTECT-21 | D83: Adversarial ML Protection | E83: N | I83: =IF(F83="","",VALUE(LEFT(F83,1)))
A84: PROTECT | B84: Preventive | C84: PROTECT-22 | D84: Prompt Injection & Input Security | E84: Y | F84: 3 | I84: =IF(F84="","",VALUE(LEFT(F84,1))) -> 3
A85: PROTECT | B85: Directive / Preventive | C85: PROTECT-23 | D85: AI Supply Chain Security | E85: N | I85: =IF(F85="","",VALUE(LEFT(F85,1)))
A86: PROTECT | B86: Preventive / Detective | C86: PROTECT-24 | D86: AI Output Safety Controls | E86: Y | F86: 3 | I86: =IF(F86="","",VALUE(LEFT(F86,1))) -> 3
A87: DETECT | B87: Detective | C87: DETECT-01 | D87: Logging & Event Generation | E87: Y | F87: 2 | I87: =IF(F87="","",VALUE(LEFT(F87,1))) -> 2
A88: DETECT | B88: Detective | C88: DETECT-02 | D88: Centralized Log Management | E88: Y | F88: 2 | I88: =IF(F88="","",VALUE(LEFT(F88,1))) -> 2
A89: DETECT | B89: Detective | C89: DETECT-03 | D89: Continuous Monitoring | E89: Y | F89: 2 | I89: =IF(F89="","",VALUE(LEFT(F89,1))) -> 2
A90: DETECT | B90: Detective | C90: DETECT-04 | D90: Endpoint Detection & Response | E90: Y | F90: 2 | I90: =IF(F90="","",VALUE(LEFT(F90,1))) -> 2
A91: DETECT | B91: Detective | C91: DETECT-05 | D91: Network Monitoring | E91: Y | F91: 1 | I91: =IF(F91="","",VALUE(LEFT(F91,1))) -> 1
A92: DETECT | B92: Detective | C92: DETECT-06 | D92: User & Entity Behavior Analytics | E92: N | I92: =IF(F92="","",VALUE(LEFT(F92,1)))
A93: DETECT | B93: Detective | C93: DETECT-07 | D93: Threat Intelligence Integration | E93: Y | F93: 2 | I93: =IF(F93="","",VALUE(LEFT(F93,1))) -> 2
A94: DETECT | B94: Detective | C94: DETECT-08 | D94: Alerting & Escalation | E94: Y | F94: 2 | I94: =IF(F94="","",VALUE(LEFT(F94,1))) -> 2
A95: DETECT | B95: Detective | C95: DETECT-09 | D95: Detection Rule Management | E95: Y | F95: 2 | I95: =IF(F95="","",VALUE(LEFT(F95,1))) -> 2
A96: DETECT | B96: Detective | C96: DETECT-10 | D96: AI Model Monitoring | E96: Y | F96: 0 | I96: =IF(F96="","",VALUE(LEFT(F96,1))) -> 0
A97: DETECT | B97: Detective | C97: DETECT-11 | D97: Data Access Monitoring | E97: Y | F97: 2 | I97: =IF(F97="","",VALUE(LEFT(F97,1))) -> 2
A98: DETECT | B98: Detective | C98: DETECT-12 | D98: Security Event Classification | E98: Y | F98: 2 | I98: =IF(F98="","",VALUE(LEFT(F98,1))) -> 2
A99: DETECT | B99: Detective | C99: DETECT-13 | D99: Detection Coverage & Gaps Analysis | E99: Y | F99: 1 | I99: =IF(F99="","",VALUE(LEFT(F99,1))) -> 1
A100: DETECT | B100: Detective | C100: DETECT-14 | D100: Log Integrity & Protection | E100: Y | F100: 2 | I100: =IF(F100="","",VALUE(LEFT(F100,1))) -> 2
A101: DETECT | B101: Detective | C101: DETECT-15 | D101: Time Synchronization | E101: Y | F101: 2 | I101: =IF(F101="","",VALUE(LEFT(F101,1))) -> 2
A102: DETECT | B102: Detective | C102: DETECT-16 | D102: AI Abuse & Misuse Detection | E102: Y | F102: 1 | I102: =IF(F102="","",VALUE(LEFT(F102,1))) -> 1
A103: RESPOND | B103: Corrective / Responsive | C103: RESPOND-01 | D103: Incident Response Framework | E103: Y | F103: 3 | I103: =IF(F103="","",VALUE(LEFT(F103,1))) -> 3
A104: RESPOND | B104: Detective / Corrective | C104: RESPOND-02 | D104: Incident Identification & Reporting | E104: Y | F104: 3 | I104: =IF(F104="","",VALUE(LEFT(F104,1))) -> 3
... A114: RESPOND | B114: Corrective / Responsive | C114: RESPOND-12 | D114: Third-Party Incident Coordination | E114: Y | F114: 3 | I114: =IF(F114="","",VALUE(LEFT(F114,1))) -> 3
A115: RESPOND | B115: Corrective / Responsive | C115: RESPOND-13 | D115: AI Incident Handling | E115: N | I115: =IF(F115="","",VALUE(LEFT(F115,1)))
A116: RECOVER | B116: Directive / Corrective | C116: RECOVER-01 | D116: Business Continuity Framework | E116: Y | F116: 3 | I116: =IF(F116="","",VALUE(LEFT(F116,1))) -> 3
A117: RECOVER | B117: Corrective / Responsive | C117: RECOVER-02 | D117: Disaster Recovery Planning | E117: Y | F117: 3 | I117: =IF(F117="","",VALUE(LEFT(F117,1))) -> 3
A118: RECOVER | B118: Corrective / Responsive | C118: RECOVER-03 | D118: Backup & Restoration | E118: Y | F118: 4 | I118: =IF(F118="","",VALUE(LEFT(F118,1))) -> 4
A119: RECOVER | B119: Directive / Corrective | C119: RECOVER-04 | D119: Recovery Objectives | E119: Y | F119: 3 | I119: =IF(F119="","",VALUE(LEFT(F119,1))) -> 3
A120: RECOVER | B120: Corrective / Detective | C120: RECOVER-05 | D120: Recovery Testing & Exercises | E120: Y | F120: 3 | I120: =IF(F120="","",VALUE(LEFT(F120,1))) -> 3
A121: RECOVER | B121: Corrective / Preventive | C121: RECOVER-06 | D121: Alternate Processing & Redundancy | E121: Y | F121: 3 | I121: =IF(F121="","",VALUE(LEFT(F121,1))) -> 3
A122: RECOVER | B122: Corrective / Responsive | C122: RECOVER-07 | D122: Crisis Management & Coordination | E122: Y | F122: 2 | I122: =IF(F122="","",VALUE(LEFT(F122,1))) -> 2
A123: RECOVER | B123: Corrective / Responsive | C123: RECOVER-08 | D123: Communication During Recovery | E123: Y | F123: 3 | I123: =IF(F123="","",VALUE(LEFT(F123,1))) -> 3
A124: RECOVER | B124: Corrective / Responsive | C124: RECOVER-09 | D124: Third-Party Recovery Dependencies | E124: Y | F124: 3 | I124: =IF(F124="","",VALUE(LEFT(F124,1))) -> 3
A125: RECOVER | B125: Corrective / Responsive | C125: RECOVER-10 | D125: AI System Recovery | E125: N | I125: =IF(F125="","",VALUE(LEFT(F125,1)))
A126: RECOVER | B126: Corrective / Detective | C126: RECOVER-11 | D126: Recovery Validation & Assurance | E126: Y | F126: 3 | I126: =IF(F126="","",VALUE(LEFT(F126,1))) -> 3
...

Sheet EXAMPLE Dashboard
B15: Domain | C15: Average Maturity | D15: In-Scope Controls | E15: POAM Items | G15: Overall Maturity Score | H15: =IFERROR(SUMIFS('EXAMPLE Self Assessment'!$I$2:$I$138,'EXAMPLE Self Assessment'!$E$2:$E$138,"Y")/COUNTIFS('EXAMPLE Self Assessment'!$E$2:$E$138,"Y"),"") -> 2.7142857 | J15: Maturity Scoring Key
B16: GOV | C16: =IFERROR(SUMIFS('EXAMPLE Self Assessment'!$I$2:$I$138,'EXAMPLE Self Assessment'!$A$2:$A$138,B16,'EXAMPLE Self Assessment'!$E$2:$E$138,"Y")/COUNTIFS('EXAMPLE Self Assessment'!$A$2:$A$138,B16,'EXAMPLE Self Assessment'!$E$2:$E$138,"Y"),"") -> 2.3846154 | D16: =COUNTIFS('EXAMPLE Self Assessment'!$A$2:$A$138,B16,'EXAMPLE Self Assessment'!$E$2:$E$138,"Y") -> 13 | E16: =COUNTIFS('EXAMPLE Self Assessment'!$A$2:$A$138,B16,'EXAMPLE Self Assessment'!$E$2:$E$138,"Y",'EXAMPLE Self Assessment'!$G$2:$G$138,"<>") -> 0 | G16: In-Scope Controls | H16: =COUNTIF('EXAMPLE Self Assessment'!$E$2:$E$138,"Y") -> 126 | J16: 0 | K16: Nonexistent / N/A
B17: RISK | C17: =IFERROR(SUMIFS('EXAMPLE Self Assessment'!$I$2:$I$138,'EXAMPLE Self Assessment'!$A$2:$A$138,B17,'EXAMPLE Self Assessment'!$E$2:$E$138,"Y")/COUNTIFS('EXAMPLE Self Assessment'!$A$2:$A$138,B17,'EXAMPLE Self Assessment'!$E$2:$E$138,"Y"),"") -> 2.3 | D17: =COUNTIFS('EXAMPLE Self Assessment'!$A$2:$A$138,B17,'EXAMPLE Self Assessment'!$E$2:$E$138,"Y") -> 10 | E17: =COUNTIFS('EXAMPLE Self Assessment'!$A$2:$A$138,B17,'EXAMPLE Self Assessment'!$E$2:$E$138,"Y",'EXAMPLE Self Assessment'!$G$2:$G$138,"<>") -> 0 | G17: POAM Items | H17: =COUNTIFS('EXAMPLE Self Assessment'!$E$2:$E$138,"Y",'EXAMPLE Self Assessment'!$G$2:$G$138,"<>") -> 0 | J17: 1 | K17: Initial / Ad Hoc
B18: AILC | C18: =IFERROR(SUMIFS('EXAMPLE Self Assessment'!$I$2:$I$138,'EXAMPLE Self Assessment'!$A$2:$A$138,B18,'EXAMPLE Self Assessment'!$E$2:$E$138,"Y")/COUNTIFS('EXAMPLE Self Assessment'!$A$2:$A$138,B18,'EXAMPLE Self Assessment'!$E$2:$E$138,"Y"),"") -> 2.4 | D18: =COUNTIFS('EXAMPLE Self Assessment'!$A$2:$A$138,B18,'EXAMPLE Self Assessment'!$E$2:$E$138,"Y") -> 10 | E18: =COUNTIFS('EXAMPLE Self Assessment'!$A$2:$A$138,B18,'EXAMPLE Self Assessment'!$E$2:$E$138,"Y",'EXAMPLE Self Assessment'!$G$2:$G$138,"<>") -> 0 | G18: Overdue POAM Items | H18: =COUNTIFS('EXAMPLE Self Assessment'!$E$2:$E$138,"Y",'EXAMPLE Self Assessment'!$G$2:$G$138,"<>",'EXAMPLE Self Assessment'!$H$2:$H$138,"<>",'EXAMPLE Self Assessment'!$H$2:$H$138,"<"&TODAY()) -> 0 | J18: 2 | K18: Defined
B19: ASSET | C19: =IFERROR(SUMIFS('EXAMPLE Self Assessment'!$I$2:$I$138,'EXAMPLE Self Assessment'!$A$2:$A$138,B19,'EXAMPLE Self Assessment'!$E$2:$E$138,"Y")/COUNTIFS('EXAMPLE Self Assessment'!$A$2:$A$138,B19,'EXAMPLE Self Assessment'!$E$2:$E$138,"Y"),"") -> 2.8333333 | D19: =COUNTIFS('EXAMPLE Self Assessment'!$A$2:$A$138,B19,'EXAMPLE Self Assessment'!$E$2:$E$138,"Y") -> 12 | E19: =COUNTIFS('EXAMPLE Self Assessment'!$A$2:$A$138,B19,'EXAMPLE Self Assessment'!$E$2:$E$138,"Y",'EXAMPLE Self Assessment'!$G$2:$G$138,"<>") -> 0 | J19: 3 | K19: Implemented / Repeatable
B20: IAM | C20: =IFERROR(SUMIFS('EXAMPLE Self Assessment'!$I$2:$I$138,'EXAMPLE Self Assessment'!$A$2:$A$138,B20,'EXAMPLE Self Assessment'!$E$2:$E$138,"Y")/COUNTIFS('EXAMPLE Self Assessment'!$A$2:$A$138,B20,'EXAMPLE Self Assessment'!$E$2:$E$138,"Y"),"") -> 3.4166667 | D20: =COUNTIFS('EXAMPLE Self Assessment'!$A$2:$A$138,B20,'EXAMPLE Self Assessment'!$E$2:$E$138,"Y") -> 12 | E20: =COUNTIFS('EXAMPLE Self Assessment'!$A$2:$A$138,B20,'EXAMPLE Self Assessment'!$E$2:$E$138,"Y",'EXAMPLE Self Assessment'!$G$2:$G$138,"<>") -> 0 | J20: 4 | K20: Managed / Measured
B21: PROTECT | C21: =IFERROR(SUMIFS('EXAMPLE Self Assessment'!$I$2:$I$138,'EXAMPLE Self Assessment'!$A$2:$A$138,B21,'EXAMPLE Self Assessment'!$E$2:$E$138,"Y")/COUNTIFS('EXAMPLE Self Assessment'!$A$2:$A$138,B21,'EXAMPLE Self Assessment'!$E$2:$E$138,"Y"),"") -> 3.4761905 | D21: =COUNTIFS('EXAMPLE Self Assessment'!$A$2:$A$138,B21,'EXAMPLE Self Assessment'!$E$2:$E$138,"Y") -> 21 | E21: =COUNTIFS('EXAMPLE Self Assessment'!$A$2:$A$138,B21,'EXAMPLE Self Assessment'!$E$2:$E$138,"Y",'EXAMPLE Self Assessment'!$G$2:$G$138,"<>") -> 0 | J21: 5 | K21: Optimized
B22: DETECT | C22: =IFERROR(SUMIFS('EXAMPLE Self Assessment'!$I$2:$I$138,'EXAMPLE Self Assessment'!$A$2:$A$138,B22,'EXAMPLE Self Assessment'!$E$2:$E$138,"Y")/COUNTIFS('EXAMPLE Self Assessment'!$A$2:$A$138,B22,'EXAMPLE Self Assessment'!$E$2:$E$138,"Y"),"") -> 1.6666667 | D22: =COUNTIFS('EXAMPLE Self Assessment'!$A$2:$A$138,B22,'EXAMPLE Self Assessment'!$E$2:$E$138,"Y") -> 15 | E22: =COUNTIFS('EXAMPLE Self Assessment'!$A$2:$A$138,B22,'EXAMPLE Self Assessment'!$E$2:$E$138,"Y",'EXAMPLE Self Assessment'!$G$2:$G$138,"<>") -> 0
B23: RESPOND | C23: =IFERROR(SUMIFS('EXAMPLE Self Assessment'!$I$2:$I$138,'EXAMPLE Self Assessment'!$A$2:$A$138,B23,'EXAMPLE Self Assessment'!$E$2:$E$138,"Y")/COUNTIFS('EXAMPLE Self Assessment'!$A$2:$A$138,B23,'EXAMPLE Self Assessment'!$E$2:$E$138,"Y"),"") -> 2.75 | D23: =COUNTIFS('EXAMPLE Self Assessment'!$A$2:$A$138,B23,'EXAMPLE Self Assessment'!$E$2:$E$138,"Y") -> 12 | E23: =COUNTIFS('EXAMPLE Self Assessment'!$A$2:$A$138,B23,'EXAMPLE Self Assessment'!$E$2:$E$138,"Y",'EXAMPLE Self Assessment'!$G$2:$G$138,"<>") -> 0
B24: RECOVER | C24: =IFERROR(SUMIFS('EXAMPLE Self Assessment'!$I$2:$I$138,'EXAMPLE Self Assessment'!$A$2:$A$138,B24,'EXAMPLE Self Assessment'!$E$2:$E$138,"Y")/COUNTIFS('EXAMPLE Self Assessment'!$A$2:$A$138,B24,'EXAMPLE Self Assessment'!$E$2:$E$138,"Y"),"") -> 3 | D24: =COUNTIFS('EXAMPLE Self Assessment'!$A$2:$A$138,B24,'EXAMPLE Self Assessment'!$E$2:$E$138,"Y") -> 10 | E24: =COUNTIFS('EXAMPLE Self Assessment'!$A$2:$A$138,B24,'EXAMPLE Self Assessment'!$E$2:$E$138,"Y",'EXAMPLE Self Assessment'!$G$2:$G$138,"<>") -> 0
B25: IMPROVE | C25: =IFERROR(SUMIFS('EXAMPLE Self Assessment'!$I$2:$I$138,'EXAMPLE Self Assessment'!$A$2:$A$138,B25,'EXAMPLE Self Assessment'!$E$2:$E$138,"Y")/COUNTIFS('EXAMPLE Self Assessment'!$A$2:$A$138,B25,'EXAMPLE Self Assessment'!$E$2:$E$138,"Y"),"") -> 2.5454545 | D25: =COUNTIFS('EXAMPLE Self Assessment'!$A$2:$A$138,B25,'EXAMPLE Self Assessment'!$E$2:$E$138,"Y") -> 11 | E25: =COUNTIFS('EXAMPLE Self Assessment'!$A$2:$A$138,B25,'EXAMPLE Self Assessment'!$E$2:$E$138,"Y",'EXAMPLE Self Assessment'!$G$2:$G$138,"<>") -> 0
B27: Control Type / Line of Effort | C27: Average Maturity | D27: Maturity Band | E27: In-Scope Controls
B28: Directive (LOE 1) | C28: =IFERROR((SUMIFS('EXAMPLE Self Assessment'!$I$2:$I$138,'EXAMPLE Self Assessment'!$E$2:$E$138,"Y",'EXAMPLE Self Assessment'!$B$2:$B$138,"Directive")+SUMIFS('EXAMPLE Self Assessment'!$I$2:$I$138,'EXAMPLE Self Assessment'!$E$2:$E$138,"Y",'EXAMPLE Self Assessment'!$B$2:$B$138,"Directive / Corrective")+SUMIFS('EXAMPLE Self Assessment'!$I$2:$I$138,'EXAMPLE Self Assessment'!$E$2:$E$138,"Y",'EXAMPLE Self Assessment'!$B$2:$B$138,"Directive / Detective")+SUMIFS('EXAMPLE Self Assessment'!$I$2:$I$138,'EXAMPLE Self Assessment'!$E$2:$E$138,"Y",'EXAMPLE Self Assessment'!$B$2:$B$138,"Directive / Preventive"))/(COUNTIFS('EXAMPLE Self Assessment'!$E$2:$E$138,"Y",'EXAMPLE Self Assessment'!$B$2:$B$138,"Directive")+COUNTIFS('EXAMPLE Self Assessment'!$E$2:$E$138,"Y",'EXAMPLE Self Assessment'!$B$2:$B$138,"Directive / Corrective")+COUNTIFS('EXAMPLE Self Assessment'!$E$2:$E$138,"Y",'EXAMPLE Self Assessment'!$B$2:$B$138,"Directive / Detective")+COUNTIFS('EXAMPLE Self Assessment'!$E$2:$E$138,"Y",'EXAMPLE Self Assessment'!$B$2:$B$138,"Directive / Preventive")),"") -> 2.56 | D28: =IF(C28="","",IF(C28<1,"0 to 1 - Nonexistent to Initial",IF(C28<2,"1 to 2 - Initial to Defined",IF(C28<3,"2 to 3 - Defined to Implemented",IF(C28<4,"3 to 4 - Implemented to Managed","4 to 5 - Managed to Optimized"))))) -> 2 to 3 - Defined to Implemented | E28: =COUNTIFS('EXAMPLE Self Assessment'!$E$2:$E$138,"Y",'EXAMPLE Self Assessment'!$B$2:$B$138,"Directive")+COUNTIFS('EXAMPLE Self Assessment'!$E$2:$E$138,"Y",'EXAMPLE Self Assessment'!$B$2:$B$138,"Directive / Corrective")+COUNTIFS('EXAMPLE Self Assessment'!$E$2:$E$138,"Y",'EXAMPLE Self Assessment'!$B$2:$B$138,"Directive / Detective")+COUNTIFS('EXAMPLE Self Assessment'!$E$2:$E$138,"Y",'EXAMPLE Self Assessment'!$B$2:$B$138,"Directive / Preventive") -> 50
B29: Preventive (LOE 2) | C29: =IFERROR((SUMIFS('EXAMPLE Self Assessment'!$I$2:$I$138,'EXAMPLE Self Assessment'!$E$2:$E$138,"Y",'EXAMPLE Self Assessment'!$B$2:$B$138,"Corrective / Preventive")+SUMIFS('EXAMPLE Self Assessment'!$I$2:$I$138,'EXAMPLE Self Assessment'!$E$2:$E$138,"Y",'EXAMPLE Self Assessment'!$B$2:$B$138,"Detective / Preventive")+SUMIFS('EXAMPLE Self Assessment'!$I$2:$I$138,'EXAMPLE Self Assessment'!$E$2:$E$138,"Y",'EXAMPLE Self Assessment'!$B$2:$B$138,"Directive / Preventive")+SUMIFS('EXAMPLE Self Assessment'!$I$2:$I$138,'EXAMPLE Self Assessment'!$E$2:$E$138,"Y",'EXAMPLE Self Assessment'!$B$2:$B$138,"Preventive")+SUMIFS('EXAMPLE Self Assessment'!$I$2:$I$138,'EXAMPLE Self Assessment'!$E$2:$E$138,"Y",'EXAMPLE Self Assessment'!$B$2:$B$138,"Preventive / Detective"))/(COUNTIFS('EXAMPLE Self Assessment'!$E$2:$E$138,"Y",'EXAMPLE Self Assessment'!$B$2:$B$138,"Corrective / Preventive")+COUNTIFS('EXAMPLE Self Assessment'!$E$2:$E$138,"Y",'EXAMPLE Self Assessment'!$B$2:$B$138,"Detective / Preventive")+COUNTIFS('EXAMPLE Self Assessment'!$E$2:$E$138,"Y",'EXAMPLE Self Assessment'!$B$2:$B$138,"Directive / Preventive")+COUNTIFS('EXAMPLE Self Assessment'!$E$2:$E$138,"Y",'EXAMPLE Self Assessment'!$B$2:$B$138,"Preventive")+COUNTIFS('EXAMPLE Self Assessment'!$E$2:$E$138,"Y",'EXAMPLE Self Assessment'!$B$2:$B$138,"Preventive / Detective")),"") -> 3.25 | D29: =IF(C29="","",IF(C29<1,"0 to 1 - Nonexistent to Initial",IF(C29<2,"1 to 2 - Initial to Defined",IF(C29<3,"2 to 3 - Defined to Implemented",IF(C29<4,"3 to 4 - Implemented to Managed","4 to 5 - Managed to Optimized"))))) -> 3 to 4 - Implemented to Managed | E29: =COUNTIFS('EXAMPLE Self Assessment'!$E$2:$E$138,"Y",'EXAMPLE Self Assessment'!$B$2:$B$138,"Corrective / Preventive")+COUNTIFS('EXAMPLE Self Assessment'!$E$2:$E$138,"Y",'EXAMPLE Self Assessment'!$B$2:$B$138,"Detective / Preventive")+COUNTIFS('EXAMPLE Self Assessment'!$E$2:$E$138,"Y",'EXAMPLE Self Assessment'!$B$2:$B$138,"Directive / Preventive")+COUNTIFS('EXAMPLE Self Assessment'!$E$2:$E$138,"Y",'EXAMPLE Self Assessment'!$B$2:$B$138,"Preventive")+COUNTIFS('EXAMPLE Self Assessment'!$E$2:$E$138,"Y",'EXAMPLE Self Assessment'!$B$2:$B$138,"Preventive / Detective") -> 44
B30: Detective (LOE 3) | C30: =IFERROR((SUMIFS('EXAMPLE Self Assessment'!$I$2:$I$138,'EXAMPLE Self Assessment'!$E$2:$E$138,"Y",'EXAMPLE Self Assessment'!$B$2:$B$138,"Corrective / Detective")+SUMIFS('EXAMPLE Self Assessment'!$I$2:$I$138,'EXAMPLE Self Assessment'!$E$2:$E$138,"Y",'EXAMPLE Self Assessment'!$B$2:$B$138,"Detective")+SUMIFS('EXAMPLE Self Assessment'!$I$2:$I$138,'EXAMPLE Self Assessment'!$E$2:$E$138,"Y",'EXAMPLE Self Assessment'!$B$2:$B$138,"Detective / Corrective")+SUMIFS('EXAMPLE Self Assessment'!$I$2:$I$138,'EXAMPLE Self Assessment'!$E$2:$E$138,"Y",'EXAMPLE Self Assessment'!$B$2:$B$138,"Detective / Preventive")+SUMIFS('EXAMPLE Self Assessment'!$I$2:$I$138,'EXAMPLE Self Assessment'!$E$2:$E$138,"Y",'EXAMPLE Self Assessment'!$B$2:$B$138,"Directive / Detective")+SUMIFS('EXAMPLE Self Assessment'!$I$2:$I$138,'EXAMPLE Self Assessment'!$E$2:$E$138,"Y",'EXAMPLE Self Assessment'!$B$2:$B$138,"Preventive / Detective"))/(COUNTIFS('EXAMPLE Self Assessment'!$E$2:$E$138,"Y",'EXAMPLE Self Assessment'!$B$2:$B$138,"Corrective / Detective")+COUNTIFS('EXAMPLE Self Assessment'!$E$2:$E$138,"Y",'EXAMPLE Self Assessment'!$B$2:$B$138,"Detective")+COUNTIFS('EXAMPLE Self Assessment'!$E$2:$E$138,"Y",'EXAMPLE Self Assessment'!$B$2:$B$138,"Detective / Corrective")+COUNTIFS('EXAMPLE Self Assessment'!$E$2:$E$138,"Y",'EXAMPLE Self Assessment'!$B$2:$B$138,"Detective / Preventive")+COUNTIFS('EXAMPLE Self Assessment'!$E$2:$E$138,"Y",'EXAMPLE Self Assessment'!$B$2:$B$138,"Directive / Detective")+COUNTIFS('EXAMPLE Self Assessment'!$E$2:$E$138,"Y",'EXAMPLE Self Assessment'!$B$2:$B$138,"Preventive / Detective")),"") -> 2.21875 | D30: =IF(C30="","",IF(C30<1,"0 to 1 - Nonexistent to Initial",IF(C30<2,"1 to 2 - Initial to Defined",IF(C30<3,"2 to 3 - Defined to Implemented",IF(C30<4,"3 to 4 - Implemented to Managed","4 to 5 - Managed to Optimized"))))) -> 2 to 3 - Defined to Implemented | E30: =COUNTIFS('EXAMPLE Self Assessment'!$E$2:$E$138,"Y",'EXAMPLE Self Assessment'!$B$2:$B$138,"Corrective / Detective")+COUNTIFS('EXAMPLE Self Assessment'!$E$2:$E$138,"Y",'EXAMPLE Self Assessment'!$B$2:$B$138,"Detective")+COUNTIFS('EXAMPLE Self Assessment'!$E$2:$E$138,"Y",'EXAMPLE Self Assessment'!$B$2:$B$138,"Detective / Corrective")+COUNTIFS('EXAMPLE Self Assessment'!$E$2:$E$138,"Y",'EXAMPLE Self Assessment'!$B$2:$B$138,"Detective / Preventive")+COUNTIFS('EXAMPLE Self Assessment'!$E$2:$E$138,"Y",'EXAMPLE Self Assessment'!$B$2:$B$138,"Directive / Detective")+COUNTIFS('EXAMPLE Self Assessment'!$E$2:$E$138,"Y",'EXAMPLE Self Assessment'!$B$2:$B$138,"Preventive / Detective") -> 32
B31: Corrective / Responsive (LOE 4) | C31: =IFERROR((SUMIFS('EXAMPLE Self Assessment'!$I$2:$I$138,'EXAMPLE Self Assessment'!$E$2:$E$138,"Y",'EXAMPLE Self Assessment'!$B$2:$B$138,"Corrective / Detective")+SUMIFS('EXAMPLE Self Assessment'!$I$2:$I$138,'EXAMPLE Self Assessment'!$E$2:$E$138,"Y",'EXAMPLE Self Assessment'!$B$2:$B$138,"Corrective / Preventive")+SUMIFS('EXAMPLE Self Assessment'!$I$2:$I$138,'EXAMPLE Self Assessment'!$E$2:$E$138,"Y",'EXAMPLE Self Assessment'!$B$2:$B$138,"Corrective / Responsive")+SUMIFS('EXAMPLE Self Assessment'!$I$2:$I$138,'EXAMPLE Self Assessment'!$E$2:$E$138,"Y",'EXAMPLE Self Assessment'!$B$2:$B$138,"Detective / Corrective")+SUMIFS('EXAMPLE Self Assessment'!$I$2:$I$138,'EXAMPLE Self Assessment'!$E$2:$E$138,"Y",'EXAMPLE Self Assessment'!$B$2:$B$138,"Directive / Corrective"))/(COUNTIFS('EXAMPLE Self Assessment'!$E$2:$E$138,"Y",'EXAMPLE Self Assessment'!$B$2:$B$138,"Corrective / Detective")+COUNTIFS('EXAMPLE Self Assessment'!$E$2:$E$138,"Y",'EXAMPLE Self Assessment'!$B$2:$B$138,"Corrective / Preventive")+COUNTIFS('EXAMPLE Self Assessment'!$E$2:$E$138,"Y",'EXAMPLE Self Assessment'!$B$2:$B$138,"Corrective / Responsive")+COUNTIFS('EXAMPLE Self Assessment'!$E$2:$E$138,"Y",'EXAMPLE Self Assessment'!$B$2:$B$138,"Detective / Corrective")+COUNTIFS('EXAMPLE Self Assessment'!$E$2:$E$138,"Y",'EXAMPLE Self Assessment'!$B$2:$B$138,"Directive / Corrective")),"") -> 2.8333333 | D31: =IF(C31="","",IF(C31<1,"0 to 1 - Nonexistent to Initial",IF(C31<2,"1 to 2 - Initial to Defined",IF(C31<3,"2 to 3 - Defined to Implemented",IF(C31<4,"3 to 4 - Implemented to Managed","4 to 5 - Managed to Optimized"))))) -> 2 to 3 - Defined to Implemented | E31: =COUNTIFS('EXAMPLE Self Assessment'!$E$2:$E$138,"Y",'EXAMPLE Self Assessment'!$B$2:$B$138,"Corrective / Detective")+COUNTIFS('EXAMPLE Self Assessment'!$E$2:$E$138,"Y",'EXAMPLE Self Assessment'!$B$2:$B$138,"Corrective / Preventive")+COUNTIFS('EXAMPLE Self Assessment'!$E$2:$E$138,"Y",'EXAMPLE Self Assessment'!$B$2:$B$138,"Corrective / Responsive")+COUNTIFS('EXAMPLE Self Assessment'!$E$2:$E$138,"Y",'EXAMPLE Self Assessment'!$B$2:$B$138,"Detective / Corrective")+COUNTIFS('EXAMPLE Self Assessment'!$E$2:$E$138,"Y",'EXAMPLE Self Assessment'!$B$2:$B$138,"Directive / Corrective") -> 30
B33: Scope-aware: averages include only controls marked In Scope = Y. Hybrid controls contribute to every applicable control type.
