Workbook

Sheet Self Assessment
A1: Domain | B1: Control Type | C1: Control ID | D1: Control Name | E1: In Scope (Y/N) | F1: Maturity Score | G1: POAM Notes | H1: POAM Due Date | I1: Maturity Numeric
A2: GOV | B2: Directive | C2: GOV-01 | D2: Governance Structure
A3: GOV | B3: Directive | C3: GOV-02 | D3: Roles & Responsibilities
A4: GOV | B4: Directive | C4: GOV-03 | D4: Executive Oversight
A5: GOV | B5: Directive | C5: GOV-04 | D5: Policy Framework
A6: GOV | B6: Directive | C6: GOV-05 | D6: Legal & Regulatory Compliance
A7: GOV | B7: Directive | C7: GOV-06 | D7: Risk Appetite & Tolerance
A8: GOV | B8: Directive | C8: GOV-07 | D8: Ethics & Responsible AI
A9: GOV | B9: Directive | C9: GOV-08 | D9: Performance Reporting
A10: GOV | B10: Directive | C10: GOV-09 | D10: Internal Audit Program
A11: GOV | B11: Directive | C11: GOV-10 | D11: Continuous Improvement
A12: GOV | B12: Directive | C12: GOV-11 | D12: Data Subject Rights Management
A13: GOV | B13: Directive | C13: GOV-12 | D13: AI Transparency & Disclosure
... A138: IMPROVE | B138: Directive / Detective | C138: IMPROVE-12 | D138: Continuous Compliance Monitoring

Sheet Dashboard
B15: Domain | C15: Average Maturity | D15: In-Scope Controls | E15: POAM Items | G15: Overall Maturity Score | H15: =IFERROR(SUMIFS('Self Assessment'!$I$2:$I$138,'Self Assessment'!$E$2:$E$138,"Y")/COUNTIFS('Self Assessment'!$E$2:$E$138,"Y"),"") | J15: Maturity Scoring Key
B16: GOV | C16: =IFERROR(SUMIFS('Self Assessment'!$I$2:$I$138,'Self Assessment'!$A$2:$A$138,B16,'Self Assessment'!$E$2:$E$138,"Y")/COUNTIFS('Self Assessment'!$A$2:$A$138,B16,'Self Assessment'!$E$2:$E$138,"Y"),"") | D16: =COUNTIFS('Self Assessment'!$A$2:$A$138,B16,'Self Assessment'!$E$2:$E$138,"Y") -> 0 | E16: =COUNTIFS('Self Assessment'!$A$2:$A$138,B16,'Self Assessment'!$E$2:$E$138,"Y",'Self Assessment'!$G$2:$G$138,"<>") -> 0 | G16: In-Scope Controls | H16: =COUNTIF('Self Assessment'!$E$2:$E$138,"Y") -> 0 | J16: 0 | K16: Nonexistent / N/A
B17: RISK | C17: =IFERROR(SUMIFS('Self Assessment'!$I$2:$I$138,'Self Assessment'!$A$2:$A$138,B17,'Self Assessment'!$E$2:$E$138,"Y")/COUNTIFS('Self Assessment'!$A$2:$A$138,B17,'Self Assessment'!$E$2:$E$138,"Y"),"") | D17: =COUNTIFS('Self Assessment'!$A$2:$A$138,B17,'Self Assessment'!$E$2:$E$138,"Y") -> 0 | E17: =COUNTIFS('Self Assessment'!$A$2:$A$138,B17,'Self Assessment'!$E$2:$E$138,"Y",'Self Assessment'!$G$2:$G$138,"<>") -> 0 | G17: POAM Items | H17: =COUNTIFS('Self Assessment'!$E$2:$E$138,"Y",'Self Assessment'!$G$2:$G$138,"<>") -> 0 | J17: 1 | K17: Initial / Ad Hoc
B18: AILC | C18: =IFERROR(SUMIFS('Self Assessment'!$I$2:$I$138,'Self Assessment'!$A$2:$A$138,B18,'Self Assessment'!$E$2:$E$138,"Y")/COUNTIFS('Self Assessment'!$A$2:$A$138,B18,'Self Assessment'!$E$2:$E$138,"Y"),"") | D18: =COUNTIFS('Self Assessment'!$A$2:$A$138,B18,'Self Assessment'!$E$2:$E$138,"Y") -> 0 | E18: =COUNTIFS('Self Assessment'!$A$2:$A$138,B18,'Self Assessment'!$E$2:$E$138,"Y",'Self Assessment'!$G$2:$G$138,"<>") -> 0 | G18: Overdue POAM Items | H18: =COUNTIFS('Self Assessment'!$E$2:$E$138,"Y",'Self Assessment'!$G$2:$G$138,"<>",'Self Assessment'!$H$2:$H$138,"<>",'Self Assessment'!$H$2:$H$138,"<"&TODAY()) -> 0 | J18: 2 | K18: Defined
B19: ASSET | C19: =IFERROR(SUMIFS('Self Assessment'!$I$2:$I$138,'Self Assessment'!$A$2:$A$138,B19,'Self Assessment'!$E$2:$E$138,"Y")/COUNTIFS('Self Assessment'!$A$2:$A$138,B19,'Self Assessment'!$E$2:$E$138,"Y"),"") | D19: =COUNTIFS('Self Assessment'!$A$2:$A$138,B19,'Self Assessment'!$E$2:$E$138,"Y") -> 0 | E19: =COUNTIFS('Self Assessment'!$A$2:$A$138,B19,'Self Assessment'!$E$2:$E$138,"Y",'Self Assessment'!$G$2:$G$138,"<>") -> 0 | J19: 3 | K19: Implemented / Repeatable
B20: IAM | C20: =IFERROR(SUMIFS('Self Assessment'!$I$2:$I$138,'Self Assessment'!$A$2:$A$138,B20,'Self Assessment'!$E$2:$E$138,"Y")/COUNTIFS('Self Assessment'!$A$2:$A$138,B20,'Self Assessment'!$E$2:$E$138,"Y"),"") | D20: =COUNTIFS('Self Assessment'!$A$2:$A$138,B20,'Self Assessment'!$E$2:$E$138,"Y") -> 0 | E20: =COUNTIFS('Self Assessment'!$A$2:$A$138,B20,'Self Assessment'!$E$2:$E$138,"Y",'Self Assessment'!$G$2:$G$138,"<>") -> 0 | J20: 4 | K20: Managed / Measured
B21: PROTECT | C21: =IFERROR(SUMIFS('Self Assessment'!$I$2:$I$138,'Self Assessment'!$A$2:$A$138,B21,'Self Assessment'!$E$2:$E$138,"Y")/COUNTIFS('Self Assessment'!$A$2:$A$138,B21,'Self Assessment'!$E$2:$E$138,"Y"),"") | D21: =COUNTIFS('Self Assessment'!$A$2:$A$138,B21,'Self Assessment'!$E$2:$E$138,"Y") -> 0 | E21: =COUNTIFS('Self Assessment'!$A$2:$A$138,B21,'Self Assessment'!$E$2:$E$138,"Y",'Self Assessment'!$G$2:$G$138,"<>") -> 0 | J21: 5 | K21: Optimized
B22: DETECT | C22: =IFERROR(SUMIFS('Self Assessment'!$I$2:$I$138,'Self Assessment'!$A$2:$A$138,B22,'Self Assessment'!$E$2:$E$138,"Y")/COUNTIFS('Self Assessment'!$A$2:$A$138,B22,'Self Assessment'!$E$2:$E$138,"Y"),"") | D22: =COUNTIFS('Self Assessment'!$A$2:$A$138,B22,'Self Assessment'!$E$2:$E$138,"Y") -> 0 | E22: =COUNTIFS('Self Assessment'!$A$2:$A$138,B22,'Self Assessment'!$E$2:$E$138,"Y",'Self Assessment'!$G$2:$G$138,"<>") -> 0
B23: RESPOND | C23: =IFERROR(SUMIFS('Self Assessment'!$I$2:$I$138,'Self Assessment'!$A$2:$A$138,B23,'Self Assessment'!$E$2:$E$138,"Y")/COUNTIFS('Self Assessment'!$A$2:$A$138,B23,'Self Assessment'!$E$2:$E$138,"Y"),"") | D23: =COUNTIFS('Self Assessment'!$A$2:$A$138,B23,'Self Assessment'!$E$2:$E$138,"Y") -> 0 | E23: =COUNTIFS('Self Assessment'!$A$2:$A$138,B23,'Self Assessment'!$E$2:$E$138,"Y",'Self Assessment'!$G$2:$G$138,"<>") -> 0
B24: RECOVER | C24: =IFERROR(SUMIFS('Self Assessment'!$I$2:$I$138,'Self Assessment'!$A$2:$A$138,B24,'Self Assessment'!$E$2:$E$138,"Y")/COUNTIFS('Self Assessment'!$A$2:$A$138,B24,'Self Assessment'!$E$2:$E$138,"Y"),"") | D24: =COUNTIFS('Self Assessment'!$A$2:$A$138,B24,'Self Assessment'!$E$2:$E$138,"Y") -> 0 | E24: =COUNTIFS('Self Assessment'!$A$2:$A$138,B24,'Self Assessment'!$E$2:$E$138,"Y",'Self Assessment'!$G$2:$G$138,"<>") -> 0
B25: IMPROVE | C25: =IFERROR(SUMIFS('Self Assessment'!$I$2:$I$138,'Self Assessment'!$A$2:$A$138,B25,'Self Assessment'!$E$2:$E$138,"Y")/COUNTIFS('Self Assessment'!$A$2:$A$138,B25,'Self Assessment'!$E$2:$E$138,"Y"),"") | D25: =COUNTIFS('Self Assessment'!$A$2:$A$138,B25,'Self Assessment'!$E$2:$E$138,"Y") -> 0 | E25: =COUNTIFS('Self Assessment'!$A$2:$A$138,B25,'Self Assessment'!$E$2:$E$138,"Y",'Self Assessment'!$G$2:$G$138,"<>") -> 0
B27: Control Type / Line of Effort | C27: Average Maturity | D27: Maturity Band | E27: In-Scope Controls
B28: Directive (LOE 1) | C28: =IFERROR((SUMIFS('Self Assessment'!$I$2:$I$138,'Self Assessment'!$E$2:$E$138,"Y",'Self Assessment'!$B$2:$B$138,"Directive")+SUMIFS('Self Assessment'!$I$2:$I$138,'Self Assessment'!$E$2:$E$138,"Y",'Self Assessment'!$B$2:$B$138,"Directive / Corrective")+SUMIFS('Self Assessment'!$I$2:$I$138,'Self Assessment'!$E$2:$E$138,"Y",'Self Assessment'!$B$2:$B$138,"Directive / Detective")+SUMIFS('Self Assessment'!$I$2:$I$138,'Self Assessment'!$E$2:$E$138,"Y",'Self Assessment'!$B$2:$B$138,"Directive / Preventive"))/(COUNTIFS('Self Assessment'!$E$2:$E$138,"Y",'Self Assessment'!$B$2:$B$138,"Directive")+COUNTIFS('Self Assessment'!$E$2:$E$138,"Y",'Self Assessment'!$B$2:$B$138,"Directive / Corrective")+COUNTIFS('Self Assessment'!$E$2:$E$138,"Y",'Self Assessment'!$B$2:$B$138,"Directive / Detective")+COUNTIFS('Self Assessment'!$E$2:$E$138,"Y",'Self Assessment'!$B$2:$B$138,"Directive / Preventive")),"") | D28: =IF(C28="","",IF(C28<1,"0 to 1 - Nonexistent to Initial",IF(C28<2,"1 to 2 - Initial to Defined",IF(C28<3,"2 to 3 - Defined to Implemented",IF(C28<4,"3 to 4 - Implemented to Managed","4 to 5 - Managed to Optimized"))))) | E28: =COUNTIFS('Self Assessment'!$E$2:$E$138,"Y",'Self Assessment'!$B$2:$B$138,"Directive")+COUNTIFS('Self Assessment'!$E$2:$E$138,"Y",'Self Assessment'!$B$2:$B$138,"Directive / Corrective")+COUNTIFS('Self Assessment'!$E$2:$E$138,"Y",'Self Assessment'!$B$2:$B$138,"Directive / Detective")+COUNTIFS('Self Assessment'!$E$2:$E$138,"Y",'Self Assessment'!$B$2:$B$138,"Directive / Preventive") -> 0
B29: Preventive (LOE 2) | C29: =IFERROR((SUMIFS('Self Assessment'!$I$2:$I$138,'Self Assessment'!$E$2:$E$138,"Y",'Self Assessment'!$B$2:$B$138,"Corrective / Preventive")+SUMIFS('Self Assessment'!$I$2:$I$138,'Self Assessment'!$E$2:$E$138,"Y",'Self Assessment'!$B$2:$B$138,"Detective / Preventive")+SUMIFS('Self Assessment'!$I$2:$I$138,'Self Assessment'!$E$2:$E$138,"Y",'Self Assessment'!$B$2:$B$138,"Directive / Preventive")+SUMIFS('Self Assessment'!$I$2:$I$138,'Self Assessment'!$E$2:$E$138,"Y",'Self Assessment'!$B$2:$B$138,"Preventive")+SUMIFS('Self Assessment'!$I$2:$I$138,'Self Assessment'!$E$2:$E$138,"Y",'Self Assessment'!$B$2:$B$138,"Preventive / Detective"))/(COUNTIFS('Self Assessment'!$E$2:$E$138,"Y",'Self Assessment'!$B$2:$B$138,"Corrective / Preventive")+COUNTIFS('Self Assessment'!$E$2:$E$138,"Y",'Self Assessment'!$B$2:$B$138,"Detective / Preventive")+COUNTIFS('Self Assessment'!$E$2:$E$138,"Y",'Self Assessment'!$B$2:$B$138,"Directive / Preventive")+COUNTIFS('Self Assessment'!$E$2:$E$138,"Y",'Self Assessment'!$B$2:$B$138,"Preventive")+COUNTIFS('Self Assessment'!$E$2:$E$138,"Y",'Self Assessment'!$B$2:$B$138,"Preventive / Detective")),"") | D29: =IF(C29="","",IF(C29<1,"0 to 1 - Nonexistent to Initial",IF(C29<2,"1 to 2 - Initial to Defined",IF(C29<3,"2 to 3 - Defined to Implemented",IF(C29<4,"3 to 4 - Implemented to Managed","4 to 5 - Managed to Optimized"))))) | E29: =COUNTIFS('Self Assessment'!$E$2:$E$138,"Y",'Self Assessment'!$B$2:$B$138,"Corrective / Preventive")+COUNTIFS('Self Assessment'!$E$2:$E$138,"Y",'Self Assessment'!$B$2:$B$138,"Detective / Preventive")+COUNTIFS('Self Assessment'!$E$2:$E$138,"Y",'Self Assessment'!$B$2:$B$138,"Directive / Preventive")+COUNTIFS('Self Assessment'!$E$2:$E$138,"Y",'Self Assessment'!$B$2:$B$138,"Preventive")+COUNTIFS('Self Assessment'!$E$2:$E$138,"Y",'Self Assessment'!$B$2:$B$138,"Preventive / Detective") -> 0
B30: Detective (LOE 3) | C30: =IFERROR((SUMIFS('Self Assessment'!$I$2:$I$138,'Self Assessment'!$E$2:$E$138,"Y",'Self Assessment'!$B$2:$B$138,"Corrective / Detective")+SUMIFS('Self Assessment'!$I$2:$I$138,'Self Assessment'!$E$2:$E$138,"Y",'Self Assessment'!$B$2:$B$138,"Detective")+SUMIFS('Self Assessment'!$I$2:$I$138,'Self Assessment'!$E$2:$E$138,"Y",'Self Assessment'!$B$2:$B$138,"Detective / Corrective")+SUMIFS('Self Assessment'!$I$2:$I$138,'Self Assessment'!$E$2:$E$138,"Y",'Self Assessment'!$B$2:$B$138,"Detective / Preventive")+SUMIFS('Self Assessment'!$I$2:$I$138,'Self Assessment'!$E$2:$E$138,"Y",'Self Assessment'!$B$2:$B$138,"Directive / Detective")+SUMIFS('Self Assessment'!$I$2:$I$138,'Self Assessment'!$E$2:$E$138,"Y",'Self Assessment'!$B$2:$B$138,"Preventive / Detective"))/(COUNTIFS('Self Assessment'!$E$2:$E$138,"Y",'Self Assessment'!$B$2:$B$138,"Corrective / Detective")+COUNTIFS('Self Assessment'!$E$2:$E$138,"Y",'Self Assessment'!$B$2:$B$138,"Detective")+COUNTIFS('Self Assessment'!$E$2:$E$138,"Y",'Self Assessment'!$B$2:$B$138,"Detective / Corrective")+COUNTIFS('Self Assessment'!$E$2:$E$138,"Y",'Self Assessment'!$B$2:$B$138,"Detective / Preventive")+COUNTIFS('Self Assessment'!$E$2:$E$138,"Y",'Self Assessment'!$B$2:$B$138,"Directive / Detective")+COUNTIFS('Self Assessment'!$E$2:$E$138,"Y",'Self Assessment'!$B$2:$B$138,"Preventive / Detective")),"") | D30: =IF(C30="","",IF(C30<1,"0 to 1 - Nonexistent to Initial",IF(C30<2,"1 to 2 - Initial to Defined",IF(C30<3,"2 to 3 - Defined to Implemented",IF(C30<4,"3 to 4 - Implemented to Managed","4 to 5 - Managed to Optimized"))))) | E30: =COUNTIFS('Self Assessment'!$E$2:$E$138,"Y",'Self Assessment'!$B$2:$B$138,"Corrective / Detective")+COUNTIFS('Self Assessment'!$E$2:$E$138,"Y",'Self Assessment'!$B$2:$B$138,"Detective")+COUNTIFS('Self Assessment'!$E$2:$E$138,"Y",'Self Assessment'!$B$2:$B$138,"Detective / Corrective")+COUNTIFS('Self Assessment'!$E$2:$E$138,"Y",'Self Assessment'!$B$2:$B$138,"Detective / Preventive")+COUNTIFS('Self Assessment'!$E$2:$E$138,"Y",'Self Assessment'!$B$2:$B$138,"Directive / Detective")+COUNTIFS('Self Assessment'!$E$2:$E$138,"Y",'Self Assessment'!$B$2:$B$138,"Preventive / Detective") -> 0
B31: Corrective / Responsive (LOE 4) | C31: =IFERROR((SUMIFS('Self Assessment'!$I$2:$I$138,'Self Assessment'!$E$2:$E$138,"Y",'Self Assessment'!$B$2:$B$138,"Corrective / Detective")+SUMIFS('Self Assessment'!$I$2:$I$138,'Self Assessment'!$E$2:$E$138,"Y",'Self Assessment'!$B$2:$B$138,"Corrective / Preventive")+SUMIFS('Self Assessment'!$I$2:$I$138,'Self Assessment'!$E$2:$E$138,"Y",'Self Assessment'!$B$2:$B$138,"Corrective / Responsive")+SUMIFS('Self Assessment'!$I$2:$I$138,'Self Assessment'!$E$2:$E$138,"Y",'Self Assessment'!$B$2:$B$138,"Detective / Corrective")+SUMIFS('Self Assessment'!$I$2:$I$138,'Self Assessment'!$E$2:$E$138,"Y",'Self Assessment'!$B$2:$B$138,"Directive / Corrective"))/(COUNTIFS('Self Assessment'!$E$2:$E$138,"Y",'Self Assessment'!$B$2:$B$138,"Corrective / Detective")+COUNTIFS('Self Assessment'!$E$2:$E$138,"Y",'Self Assessment'!$B$2:$B$138,"Corrective / Preventive")+COUNTIFS('Self Assessment'!$E$2:$E$138,"Y",'Self Assessment'!$B$2:$B$138,"Corrective / Responsive")+COUNTIFS('Self Assessment'!$E$2:$E$138,"Y",'Self Assessment'!$B$2:$B$138,"Detective / Corrective")+COUNTIFS('Self Assessment'!$E$2:$E$138,"Y",'Self Assessment'!$B$2:$B$138,"Directive / Corrective")),"") | D31: =IF(C31="","",IF(C31<1,"0 to 1 - Nonexistent to Initial",IF(C31<2,"1 to 2 - Initial to Defined",IF(C31<3,"2 to 3 - Defined to Implemented",IF(C31<4,"3 to 4 - Implemented to Managed","4 to 5 - Managed to Optimized"))))) | E31: =COUNTIFS('Self Assessment'!$E$2:$E$138,"Y",'Self Assessment'!$B$2:$B$138,"Corrective / Detective")+COUNTIFS('Self Assessment'!$E$2:$E$138,"Y",'Self Assessment'!$B$2:$B$138,"Corrective / Preventive")+COUNTIFS('Self Assessment'!$E$2:$E$138,"Y",'Self Assessment'!$B$2:$B$138,"Corrective / Responsive")+COUNTIFS('Self Assessment'!$E$2:$E$138,"Y",'Self Assessment'!$B$2:$B$138,"Detective / Corrective")+COUNTIFS('Self Assessment'!$E$2:$E$138,"Y",'Self Assessment'!$B$2:$B$138,"Directive / Corrective") -> 0
B33: Scope-aware: averages include only controls marked In Scope = Y. Hybrid controls contribute to every applicable control type.

Sheet EXAMPLE Self Assessment
A1: Domain | B1: Control Type | C1: Control ID | D1: Control Name | E1: In Scope (Y/N) | F1: Maturity Score | G1: POAM Notes | H1: POAM Due Date | I1: Maturity Numeric
A2: GOV | B2: Directive | C2: GOV-01 | D2: Governance Structure | E2: Y | F2: 2 | I2: =IF(F2="","",VALUE(LEFT(F2,1))) -> 2
A3: GOV | B3: Directive | C3: GOV-02 | D3: Roles & Responsibilities | E3: Y | F3: 2 | I3: =IF(F3="","",VALUE(LEFT(F3,1))) -> 2
A4: GOV | B4: Directive | C4: GOV-03 | D4: Executive Oversight | E4: Y | F4: 3 | I4: =IF(F4="","",VALUE(LEFT(F4,1))) -> 3
A5: GOV | B5: Directive | C5: GOV-04 | D5: Policy Framework | E5: Y | F5: 3 | I5: =IF(F5="","",VALUE(LEFT(F5,1))) -> 3
A6: GOV | B6: Directive | C6: GOV-05 | D6: Legal & Regulatory Compliance | E6: Y | F6: 2 | I6: =IF(F6="","",VALUE(LEFT(F6,1))) -> 2
A7: GOV | B7: Directive | C7: GOV-06 | D7: Risk Appetite & Tolerance | E7: Y | F7: 2 | I7: =IF(F7="","",VALUE(LEFT(F7,1))) -> 2
A8: GOV | B8: Directive | C8: GOV-07 | D8: Ethics & Responsible AI | E8: Y | F8: 1 | I8: =IF(F8="","",VALUE(LEFT(F8,1))) -> 1
A9: GOV | B9: Directive | C9: GOV-08 | D9: Performance Reporting | E9: Y | F9: 3 | I9: =IF(F9="","",VALUE(LEFT(F9,1))) -> 3
A10: GOV | B10: Directive | C10: GOV-09 | D10: Internal Audit Program | E10: Y | F10: 2 | I10: =IF(F10="","",VALUE(LEFT(F10,1))) -> 2
A11: GOV | B11: Directive | C11: GOV-10 | D11: Continuous Improvement | E11: Y | F11: 3 | I11: =IF(F11="","",VALUE(LEFT(F11,1))) -> 3
A12: GOV | B12: Directive | C12: GOV-11 | D12: Data Subject Rights Management | E12: Y | F12: 2 | I12: =IF(F12="","",VALUE(LEFT(F12,1))) -> 2
A13: GOV | B13: Directive | C13: GOV-12 | D13: AI Transparency & Disclosure | E13: Y | F13: 3 | I13: =IF(F13="","",VALUE(LEFT(F13,1))) -> 3
... A23: RISK | B23: Directive | C23: RISK-09 | D23: Algorithmic Impact Assessment | E23: Y | F23: 2 | I23: =IF(F23="","",VALUE(LEFT(F23,1))) -> 2
A24: RISK | B24: Directive | C24: RISK-10 | D24: High-Risk User Protection | E24: N | I24: =IF(F24="","",VALUE(LEFT(F24,1)))
A25: RISK | B25: Directive | C25: RISK-11 | D25: AI Risk Scoring & Classification | E25: Y | F25: 3 | I25: =IF(F25="","",VALUE(LEFT(F25,1))) -> 3
A26: AILC | B26: Directive | C26: AILC-01 | D26: AI Use Case Intake & Approval | E26: Y | F26: 2 | I26: =IF(F26="","",VALUE(LEFT(F26,1))) -> 2
A27: AILC | B27: Directive | C27: AILC-02 | D27: AI System Classification | E27: Y | F27: 3 | I27: =IF(F27="","",VALUE(LEFT(F27,1))) -> 3
A28: AILC | B28: Directive / Preventive | C28: AILC-03 | D28: Intended Use & Misuse Definition | E28: Y | F28: 2 | I28: =IF(F28="","",VALUE(LEFT(F28,1))) -> 2
A29: AILC | B29: Directive | C29: AILC-04 | D29: AI Design & Development Controls | E29: Y | F29: 3 | I29: =IF(F29="","",VALUE(LEFT(F29,1))) -> 3
A30: AILC | B30: Preventive / Detective | C30: AILC-05 | D30: Training Data Governance | E30: N | I30: =IF(F30="","",VALUE(LEFT(F30,1)))
A31: AILC | B31: Preventive | C31: AILC-06 | D31: Model Validation Before Deployment | E31: Y | F31: 3 | I31: =IF(F31="","",VALUE(LEFT(F31,1))) -> 3
A32: AILC | B32: Preventive | C32: AILC-07 | D32: Human Oversight Requirements | E32: Y | F32: 2 | I32: =IF(F32="","",VALUE(LEFT(F32,1))) -> 2
A33: AILC | B33: Detective | C33: AILC-08 | D33: Deployment Authorization & Release Control | E33: Y | F33: 3 | I33: =IF(F33="","",VALUE(LEFT(F33,1))) -> 3
A34: AILC | B34: Detective | C34: AILC-09 | D34: AI System Monitoring | E34: Y | F34: 1 | I34: =IF(F34="","",VALUE(LEFT(F34,1))) -> 1
A35: AILC | B35: Directive | C35: AILC-10 | D35: AI System Retirement & Decommissioning | E35: Y | F35: 3 | I35: =IF(F35="","",VALUE(LEFT(F35,1))) -> 3
A36: AILC | B36: Corrective / Responsive | C36: AILC-11 | D36: Model Explainability & Traceability | E36: Y | F36: 2 | I36: =IF(F36="","",VALUE(LEFT(F36,1))) -> 2
A37: ASSET | B37: Directive | C37: ASSET-01 | D37: Asset Inventory | E37: Y | F37: 3 | I37: =IF(F37="","",VALUE(LEFT(F37,1))) -> 3
A38: ASSET | B38: Directive | C38: ASSET-02 | D38: Data Inventory | E38: Y | F38: 3 | I38: =IF(F38="","",VALUE(LEFT(F38,1))) -> 3
A39: ASSET | B39: Directive | C39: ASSET-03 | D39: Data Classification | E39: Y | F39: 2 | I39: =IF(F39="","",VALUE(LEFT(F39,1))) -> 2
A40: ASSET | B40: Directive | C40: ASSET-04 | D40: Data Handling & Protection Requirements | E40: Y | F40: 3 | I40: =IF(F40="","",VALUE(LEFT(F40,1))) -> 3
A41: ASSET | B41: Directive / Preventive | C41: ASSET-05 | D41: Data Lifecycle Management | E41: Y | F41: 3 | I41: =IF(F41="","",VALUE(LEFT(F41,1))) -> 3
A42: ASSET | B42: Detective | C42: ASSET-06 | D42: Asset Ownership & Accountability | E42: Y | F42: 2 | I42: =IF(F42="","",VALUE(LEFT(F42,1))) -> 2
... A46: ASSET | B46: Preventive | C46: ASSET-10 | D46: Data Quality & Integrity | E46: Y | F46: 4 | I46: =IF(F46="","",VALUE(LEFT(F46,1))) -> 4
A47: ASSET | B47: Directive / Detective | C47: ASSET-11 | D47: Data Minimization & Purpose Limitation | E47: N | I47: =IF(F47="","",VALUE(LEFT(F47,1)))
A48: ASSET | B48: Directive / Preventive | C48: ASSET-12 | D48: Data Sharing & External Transfer | E48: Y | F48: 3 | I48: =IF(F48="","",VALUE(LEFT(F48,1))) -> 3
A49: ASSET | B49: Directive / Preventive | C49: ASSET-13 | D49: Asset Protection Requirements Definition | E49: Y | F49: 3 | I49: =IF(F49="","",VALUE(LEFT(F49,1))) -> 3
A50: IAM | B50: Preventive | C50: IAM-01 | D50: Identity Inventory | E50: Y | F50: 3 | I50: =IF(F50="","",VALUE(LEFT(F50,1))) -> 3
A51: IAM | B51: Preventive | C51: IAM-02 | D51: Identity Lifecycle Management | E51: Y | F51: 3 | I51: =IF(F51="","",VALUE(LEFT(F51,1))) -> 3
A52: IAM | B52: Preventive | C52: IAM-03 | D52: Authentication Controls | E52: Y | F52: 4 | I52: =IF(F52="","",VALUE(LEFT(F52,1))) -> 4
...

Sheet EXAMPLE Dashboard
B15: Domain | C15: Average Maturity | D15: In-Scope Controls | E15: POAM Items | G15: Overall Maturity Score | H15: =IFERROR(SUMIFS('EXAMPLE Self Assessment'!$I$2:$I$138,'EXAMPLE Self Assessment'!$E$2:$E$138,"Y")/COUNTIFS('EXAMPLE Self Assessment'!$E$2:$E$138,"Y"),"") -> 2.7142857 | J15: Maturity Scoring Key
B16: GOV | C16: =IFERROR(SUMIFS('EXAMPLE Self Assessment'!$I$2:$I$138,'EXAMPLE Self Assessment'!$A$2:$A$138,B16,'EXAMPLE Self Assessment'!$E$2:$E$138,"Y")/COUNTIFS('EXAMPLE Self Assessment'!$A$2:$A$138,B16,'EXAMPLE Self Assessment'!$E$2:$E$138,"Y"),"") -> 2.3846154 | D16: =COUNTIFS('EXAMPLE Self Assessment'!$A$2:$A$138,B16,'EXAMPLE Self Assessment'!$E$2:$E$138,"Y") -> 13 | E16: =COUNTIFS('EXAMPLE Self Assessment'!$A$2:$A$138,B16,'EXAMPLE Self Assessment'!$E$2:$E$138,"Y",'EXAMPLE Self Assessment'!$G$2:$G$138,"<>") -> 0 | G16: In-Scope Controls | H16: =COUNTIF('EXAMPLE Self Assessment'!$E$2:$E$138,"Y") -> 126 | J16: 0 | K16: Nonexistent / N/A
B17: RISK | C17: =IFERROR(SUMIFS('EXAMPLE Self Assessment'!$I$2:$I$138,'EXAMPLE Self Assessment'!$A$2:$A$138,B17,'EXAMPLE Self Assessment'!$E$2:$E$138,"Y")/COUNTIFS('EXAMPLE Self Assessment'!$A$2:$A$138,B17,'EXAMPLE Self Assessment'!$E$2:$E$138,"Y"),"") -> 2.3 | D17: =COUNTIFS('EXAMPLE Self Assessment'!$A$2:$A$138,B17,'EXAMPLE Self Assessment'!$E$2:$E$138,"Y") -> 10 | E17: =COUNTIFS('EXAMPLE Self Assessment'!$A$2:$A$138,B17,'EXAMPLE Self Assessment'!$E$2:$E$138,"Y",'EXAMPLE Self Assessment'!$G$2:$G$138,"<>") -> 0 | G17: POAM Items | H17: =COUNTIFS('EXAMPLE Self Assessment'!$E$2:$E$138,"Y",'EXAMPLE Self Assessment'!$G$2:$G$138,"<>") -> 0 | J17: 1 | K17: Initial / Ad Hoc
B18: AILC | C18: =IFERROR(SUMIFS('EXAMPLE Self Assessment'!$I$2:$I$138,'EXAMPLE Self Assessment'!$A$2:$A$138,B18,'EXAMPLE Self Assessment'!$E$2:$E$138,"Y")/COUNTIFS('EXAMPLE Self Assessment'!$A$2:$A$138,B18,'EXAMPLE Self Assessment'!$E$2:$E$138,"Y"),"") -> 2.4 | D18: =COUNTIFS('EXAMPLE Self Assessment'!$A$2:$A$138,B18,'EXAMPLE Self Assessment'!$E$2:$E$138,"Y") -> 10 | E18: =COUNTIFS('EXAMPLE Self Assessment'!$A$2:$A$138,B18,'EXAMPLE Self Assessment'!$E$2:$E$138,"Y",'EXAMPLE Self Assessment'!$G$2:$G$138,"<>") -> 0 | G18: Overdue POAM Items | H18: =COUNTIFS('EXAMPLE Self Assessment'!$E$2:$E$138,"Y",'EXAMPLE Self Assessment'!$G$2:$G$138,"<>",'EXAMPLE Self Assessment'!$H$2:$H$138,"<>",'EXAMPLE Self Assessment'!$H$2:$H$138,"<"&TODAY()) -> 0 | J18: 2 | K18: Defined
B19: ASSET | C19: =IFERROR(SUMIFS('EXAMPLE Self Assessment'!$I$2:$I$138,'EXAMPLE Self Assessment'!$A$2:$A$138,B19,'EXAMPLE Self Assessment'!$E$2:$E$138,"Y")/COUNTIFS('EXAMPLE Self Assessment'!$A$2:$A$138,B19,'EXAMPLE Self Assessment'!$E$2:$E$138,"Y"),"") -> 2.8333333 | D19: =COUNTIFS('EXAMPLE Self Assessment'!$A$2:$A$138,B19,'EXAMPLE Self Assessment'!$E$2:$E$138,"Y") -> 12 | E19: =COUNTIFS('EXAMPLE Self Assessment'!$A$2:$A$138,B19,'EXAMPLE Self Assessment'!$E$2:$E$138,"Y",'EXAMPLE Self Assessment'!$G$2:$G$138,"<>") -> 0 | J19: 3 | K19: Implemented / Repeatable
B20: IAM | C20: =IFERROR(SUMIFS('EXAMPLE Self Assessment'!$I$2:$I$138,'EXAMPLE Self Assessment'!$A$2:$A$138,B20,'EXAMPLE Self Assessment'!$E$2:$E$138,"Y")/COUNTIFS('EXAMPLE Self Assessment'!$A$2:$A$138,B20,'EXAMPLE Self Assessment'!$E$2:$E$138,"Y"),"") -> 3.4166667 | D20: =COUNTIFS('EXAMPLE Self Assessment'!$A$2:$A$138,B20,'EXAMPLE Self Assessment'!$E$2:$E$138,"Y") -> 12 | E20: =COUNTIFS('EXAMPLE Self Assessment'!$A$2:$A$138,B20,'EXAMPLE Self Assessment'!$E$2:$E$138,"Y",'EXAMPLE Self Assessment'!$G$2:$G$138,"<>") -> 0 | J20: 4 | K20: Managed / Measured
B21: PROTECT | C21: =IFERROR(SUMIFS('EXAMPLE Self Assessment'!$I$2:$I$138,'EXAMPLE Self Assessment'!$A$2:$A$138,B21,'EXAMPLE Self Assessment'!$E$2:$E$138,"Y")/COUNTIFS('EXAMPLE Self Assessment'!$A$2:$A$138,B21,'EXAMPLE Self Assessment'!$E$2:$E$138,"Y"),"") -> 3.4761905 | D21: =COUNTIFS('EXAMPLE Self Assessment'!$A$2:$A$138,B21,'EXAMPLE Self Assessment'!$E$2:$E$138,"Y") -> 21 | E21: =COUNTIFS('EXAMPLE Self Assessment'!$A$2:$A$138,B21,'EXAMPLE Self Assessment'!$E$2:$E$138,"Y",'EXAMPLE Self Assessment'!$G$2:$G$138,"<>") -> 0 | J21: 5 | K21: Optimized
B22: DETECT | C22: =IFERROR(SUMIFS('EXAMPLE Self Assessment'!$I$2:$I$138,'EXAMPLE Self Assessment'!$A$2:$A$138,B22,'EXAMPLE Self Assessment'!$E$2:$E$138,"Y")/COUNTIFS('EXAMPLE Self Assessment'!$A$2:$A$138,B22,'EXAMPLE Self Assessment'!$E$2:$E$138,"Y"),"") -> 1.6666667 | D22: =COUNTIFS('EXAMPLE Self Assessment'!$A$2:$A$138,B22,'EXAMPLE Self Assessment'!$E$2:$E$138,"Y") -> 15 | E22: =COUNTIFS('EXAMPLE Self Assessment'!$A$2:$A$138,B22,'EXAMPLE Self Assessment'!$E$2:$E$138,"Y",'EXAMPLE Self Assessment'!$G$2:$G$138,"<>") -> 0
B23: RESPOND | C23: =IFERROR(SUMIFS('EXAMPLE Self Assessment'!$I$2:$I$138,'EXAMPLE Self Assessment'!$A$2:$A$138,B23,'EXAMPLE Self Assessment'!$E$2:$E$138,"Y")/COUNTIFS('EXAMPLE Self Assessment'!$A$2:$A$138,B23,'EXAMPLE Self Assessment'!$E$2:$E$138,"Y"),"") -> 2.75 | D23: =COUNTIFS('EXAMPLE Self Assessment'!$A$2:$A$138,B23,'EXAMPLE Self Assessment'!$E$2:$E$138,"Y") -> 12 | E23: =COUNTIFS('EXAMPLE Self Assessment'!$A$2:$A$138,B23,'EXAMPLE Self Assessment'!$E$2:$E$138,"Y",'EXAMPLE Self Assessment'!$G$2:$G$138,"<>") -> 0
B24: RECOVER | C24: =IFERROR(SUMIFS('EXAMPLE Self Assessment'!$I$2:$I$138,'EXAMPLE Self Assessment'!$A$2:$A$138,B24,'EXAMPLE Self Assessment'!$E$2:$E$138,"Y")/COUNTIFS('EXAMPLE Self Assessment'!$A$2:$A$138,B24,'EXAMPLE Self Assessment'!$E$2:$E$138,"Y"),"") -> 3 | D24: =COUNTIFS('EXAMPLE Self Assessment'!$A$2:$A$138,B24,'EXAMPLE Self Assessment'!$E$2:$E$138,"Y") -> 10 | E24: =COUNTIFS('EXAMPLE Self Assessment'!$A$2:$A$138,B24,'EXAMPLE Self Assessment'!$E$2:$E$138,"Y",'EXAMPLE Self Assessment'!$G$2:$G$138,"<>") -> 0
B25: IMPROVE | C25: =IFERROR(SUMIFS('EXAMPLE Self Assessment'!$I$2:$I$138,'EXAMPLE Self Assessment'!$A$2:$A$138,B25,'EXAMPLE Self Assessment'!$E$2:$E$138,"Y")/COUNTIFS('EXAMPLE Self Assessment'!$A$2:$A$138,B25,'EXAMPLE Self Assessment'!$E$2:$E$138,"Y"),"") -> 2.5454545 | D25: =COUNTIFS('EXAMPLE Self Assessment'!$A$2:$A$138,B25,'EXAMPLE Self Assessment'!$E$2:$E$138,"Y") -> 11 | E25: =COUNTIFS('EXAMPLE Self Assessment'!$A$2:$A$138,B25,'EXAMPLE Self Assessment'!$E$2:$E$138,"Y",'EXAMPLE Self Assessment'!$G$2:$G$138,"<>") -> 0
B27: Control Type / Line of Effort | C27: Average Maturity | D27: Maturity Band | E27: In-Scope Controls
B28: Directive (LOE 1) | C28: =IFERROR((SUMIFS('EXAMPLE Self Assessment'!$I$2:$I$138,'EXAMPLE Self Assessment'!$E$2:$E$138,"Y",'EXAMPLE Self Assessment'!$B$2:$B$138,"Directive")+SUMIFS('EXAMPLE Self Assessment'!$I$2:$I$138,'EXAMPLE Self Assessment'!$E$2:$E$138,"Y",'EXAMPLE Self Assessment'!$B$2:$B$138,"Directive / Corrective")+SUMIFS('EXAMPLE Self Assessment'!$I$2:$I$138,'EXAMPLE Self Assessment'!$E$2:$E$138,"Y",'EXAMPLE Self Assessment'!$B$2:$B$138,"Directive / Detective")+SUMIFS('EXAMPLE Self Assessment'!$I$2:$I$138,'EXAMPLE Self Assessment'!$E$2:$E$138,"Y",'EXAMPLE Self Assessment'!$B$2:$B$138,"Directive / Preventive"))/(COUNTIFS('EXAMPLE Self Assessment'!$E$2:$E$138,"Y",'EXAMPLE Self Assessment'!$B$2:$B$138,"Directive")+COUNTIFS('EXAMPLE Self Assessment'!$E$2:$E$138,"Y",'EXAMPLE Self Assessment'!$B$2:$B$138,"Directive / Corrective")+COUNTIFS('EXAMPLE Self Assessment'!$E$2:$E$138,"Y",'EXAMPLE Self Assessment'!$B$2:$B$138,"Directive / Detective")+COUNTIFS('EXAMPLE Self Assessment'!$E$2:$E$138,"Y",'EXAMPLE Self Assessment'!$B$2:$B$138,"Directive / Preventive")),"") -> 2.56 | D28: =IF(C28="","",IF(C28<1,"0 to 1 - Nonexistent to Initial",IF(C28<2,"1 to 2 - Initial to Defined",IF(C28<3,"2 to 3 - Defined to Implemented",IF(C28<4,"3 to 4 - Implemented to Managed","4 to 5 - Managed to Optimized"))))) -> 2 to 3 - Defined to Implemented | E28: =COUNTIFS('EXAMPLE Self Assessment'!$E$2:$E$138,"Y",'EXAMPLE Self Assessment'!$B$2:$B$138,"Directive")+COUNTIFS('EXAMPLE Self Assessment'!$E$2:$E$138,"Y",'EXAMPLE Self Assessment'!$B$2:$B$138,"Directive / Corrective")+COUNTIFS('EXAMPLE Self Assessment'!$E$2:$E$138,"Y",'EXAMPLE Self Assessment'!$B$2:$B$138,"Directive / Detective")+COUNTIFS('EXAMPLE Self Assessment'!$E$2:$E$138,"Y",'EXAMPLE Self Assessment'!$B$2:$B$138,"Directive / Preventive") -> 50
B29: Preventive (LOE 2) | C29: =IFERROR((SUMIFS('EXAMPLE Self Assessment'!$I$2:$I$138,'EXAMPLE Self Assessment'!$E$2:$E$138,"Y",'EXAMPLE Self Assessment'!$B$2:$B$138,"Corrective / Preventive")+SUMIFS('EXAMPLE Self Assessment'!$I$2:$I$138,'EXAMPLE Self Assessment'!$E$2:$E$138,"Y",'EXAMPLE Self Assessment'!$B$2:$B$138,"Detective / Preventive")+SUMIFS('EXAMPLE Self Assessment'!$I$2:$I$138,'EXAMPLE Self Assessment'!$E$2:$E$138,"Y",'EXAMPLE Self Assessment'!$B$2:$B$138,"Directive / Preventive")+SUMIFS('EXAMPLE Self Assessment'!$I$2:$I$138,'EXAMPLE Self Assessment'!$E$2:$E$138,"Y",'EXAMPLE Self Assessment'!$B$2:$B$138,"Preventive")+SUMIFS('EXAMPLE Self Assessment'!$I$2:$I$138,'EXAMPLE Self Assessment'!$E$2:$E$138,"Y",'EXAMPLE Self Assessment'!$B$2:$B$138,"Preventive / Detective"))/(COUNTIFS('EXAMPLE Self Assessment'!$E$2:$E$138,"Y",'EXAMPLE Self Assessment'!$B$2:$B$138,"Corrective / Preventive")+COUNTIFS('EXAMPLE Self Assessment'!$E$2:$E$138,"Y",'EXAMPLE Self Assessment'!$B$2:$B$138,"Detective / Preventive")+COUNTIFS('EXAMPLE Self Assessment'!$E$2:$E$138,"Y",'EXAMPLE Self Assessment'!$B$2:$B$138,"Directive / Preventive")+COUNTIFS('EXAMPLE Self Assessment'!$E$2:$E$138,"Y",'EXAMPLE Self Assessment'!$B$2:$B$138,"Preventive")+COUNTIFS('EXAMPLE Self Assessment'!$E$2:$E$138,"Y",'EXAMPLE Self Assessment'!$B$2:$B$138,"Preventive / Detective")),"") -> 3.25 | D29: =IF(C29="","",IF(C29<1,"0 to 1 - Nonexistent to Initial",IF(C29<2,"1 to 2 - Initial to Defined",IF(C29<3,"2 to 3 - Defined to Implemented",IF(C29<4,"3 to 4 - Implemented to Managed","4 to 5 - Managed to Optimized"))))) -> 3 to 4 - Implemented to Managed | E29: =COUNTIFS('EXAMPLE Self Assessment'!$E$2:$E$138,"Y",'EXAMPLE Self Assessment'!$B$2:$B$138,"Corrective / Preventive")+COUNTIFS('EXAMPLE Self Assessment'!$E$2:$E$138,"Y",'EXAMPLE Self Assessment'!$B$2:$B$138,"Detective / Preventive")+COUNTIFS('EXAMPLE Self Assessment'!$E$2:$E$138,"Y",'EXAMPLE Self Assessment'!$B$2:$B$138,"Directive / Preventive")+COUNTIFS('EXAMPLE Self Assessment'!$E$2:$E$138,"Y",'EXAMPLE Self Assessment'!$B$2:$B$138,"Preventive")+COUNTIFS('EXAMPLE Self Assessment'!$E$2:$E$138,"Y",'EXAMPLE Self Assessment'!$B$2:$B$138,"Preventive / Detective") -> 44
B30: Detective (LOE 3) | C30: =IFERROR((SUMIFS('EXAMPLE Self Assessment'!$I$2:$I$138,'EXAMPLE Self Assessment'!$E$2:$E$138,"Y",'EXAMPLE Self Assessment'!$B$2:$B$138,"Corrective / Detective")+SUMIFS('EXAMPLE Self Assessment'!$I$2:$I$138,'EXAMPLE Self Assessment'!$E$2:$E$138,"Y",'EXAMPLE Self Assessment'!$B$2:$B$138,"Detective")+SUMIFS('EXAMPLE Self Assessment'!$I$2:$I$138,'EXAMPLE Self Assessment'!$E$2:$E$138,"Y",'EXAMPLE Self Assessment'!$B$2:$B$138,"Detective / Corrective")+SUMIFS('EXAMPLE Self Assessment'!$I$2:$I$138,'EXAMPLE Self Assessment'!$E$2:$E$138,"Y",'EXAMPLE Self Assessment'!$B$2:$B$138,"Detective / Preventive")+SUMIFS('EXAMPLE Self Assessment'!$I$2:$I$138,'EXAMPLE Self Assessment'!$E$2:$E$138,"Y",'EXAMPLE Self Assessment'!$B$2:$B$138,"Directive / Detective")+SUMIFS('EXAMPLE Self Assessment'!$I$2:$I$138,'EXAMPLE Self Assessment'!$E$2:$E$138,"Y",'EXAMPLE Self Assessment'!$B$2:$B$138,"Preventive / Detective"))/(COUNTIFS('EXAMPLE Self Assessment'!$E$2:$E$138,"Y",'EXAMPLE Self Assessment'!$B$2:$B$138,"Corrective / Detective")+COUNTIFS('EXAMPLE Self Assessment'!$E$2:$E$138,"Y",'EXAMPLE Self Assessment'!$B$2:$B$138,"Detective")+COUNTIFS('EXAMPLE Self Assessment'!$E$2:$E$138,"Y",'EXAMPLE Self Assessment'!$B$2:$B$138,"Detective / Corrective")+COUNTIFS('EXAMPLE Self Assessment'!$E$2:$E$138,"Y",'EXAMPLE Self Assessment'!$B$2:$B$138,"Detective / Preventive")+COUNTIFS('EXAMPLE Self Assessment'!$E$2:$E$138,"Y",'EXAMPLE Self Assessment'!$B$2:$B$138,"Directive / Detective")+COUNTIFS('EXAMPLE Self Assessment'!$E$2:$E$138,"Y",'EXAMPLE Self Assessment'!$B$2:$B$138,"Preventive / Detective")),"") -> 2.21875 | D30: =IF(C30="","",IF(C30<1,"0 to 1 - Nonexistent to Initial",IF(C30<2,"1 to 2 - Initial to Defined",IF(C30<3,"2 to 3 - Defined to Implemented",IF(C30<4,"3 to 4 - Implemented to Managed","4 to 5 - Managed to Optimized"))))) -> 2 to 3 - Defined to Implemented | E30: =COUNTIFS('EXAMPLE Self Assessment'!$E$2:$E$138,"Y",'EXAMPLE Self Assessment'!$B$2:$B$138,"Corrective / Detective")+COUNTIFS('EXAMPLE Self Assessment'!$E$2:$E$138,"Y",'EXAMPLE Self Assessment'!$B$2:$B$138,"Detective")+COUNTIFS('EXAMPLE Self Assessment'!$E$2:$E$138,"Y",'EXAMPLE Self Assessment'!$B$2:$B$138,"Detective / Corrective")+COUNTIFS('EXAMPLE Self Assessment'!$E$2:$E$138,"Y",'EXAMPLE Self Assessment'!$B$2:$B$138,"Detective / Preventive")+COUNTIFS('EXAMPLE Self Assessment'!$E$2:$E$138,"Y",'EXAMPLE Self Assessment'!$B$2:$B$138,"Directive / Detective")+COUNTIFS('EXAMPLE Self Assessment'!$E$2:$E$138,"Y",'EXAMPLE Self Assessment'!$B$2:$B$138,"Preventive / Detective") -> 32
B31: Corrective / Responsive (LOE 4) | C31: =IFERROR((SUMIFS('EXAMPLE Self Assessment'!$I$2:$I$138,'EXAMPLE Self Assessment'!$E$2:$E$138,"Y",'EXAMPLE Self Assessment'!$B$2:$B$138,"Corrective / Detective")+SUMIFS('EXAMPLE Self Assessment'!$I$2:$I$138,'EXAMPLE Self Assessment'!$E$2:$E$138,"Y",'EXAMPLE Self Assessment'!$B$2:$B$138,"Corrective / Preventive")+SUMIFS('EXAMPLE Self Assessment'!$I$2:$I$138,'EXAMPLE Self Assessment'!$E$2:$E$138,"Y",'EXAMPLE Self Assessment'!$B$2:$B$138,"Corrective / Responsive")+SUMIFS('EXAMPLE Self Assessment'!$I$2:$I$138,'EXAMPLE Self Assessment'!$E$2:$E$138,"Y",'EXAMPLE Self Assessment'!$B$2:$B$138,"Detective / Corrective")+SUMIFS('EXAMPLE Self Assessment'!$I$2:$I$138,'EXAMPLE Self Assessment'!$E$2:$E$138,"Y",'EXAMPLE Self Assessment'!$B$2:$B$138,"Directive / Corrective"))/(COUNTIFS('EXAMPLE Self Assessment'!$E$2:$E$138,"Y",'EXAMPLE Self Assessment'!$B$2:$B$138,"Corrective / Detective")+COUNTIFS('EXAMPLE Self Assessment'!$E$2:$E$138,"Y",'EXAMPLE Self Assessment'!$B$2:$B$138,"Corrective / Preventive")+COUNTIFS('EXAMPLE Self Assessment'!$E$2:$E$138,"Y",'EXAMPLE Self Assessment'!$B$2:$B$138,"Corrective / Responsive")+COUNTIFS('EXAMPLE Self Assessment'!$E$2:$E$138,"Y",'EXAMPLE Self Assessment'!$B$2:$B$138,"Detective / Corrective")+COUNTIFS('EXAMPLE Self Assessment'!$E$2:$E$138,"Y",'EXAMPLE Self Assessment'!$B$2:$B$138,"Directive / Corrective")),"") -> 2.8333333 | D31: =IF(C31="","",IF(C31<1,"0 to 1 - Nonexistent to Initial",IF(C31<2,"1 to 2 - Initial to Defined",IF(C31<3,"2 to 3 - Defined to Implemented",IF(C31<4,"3 to 4 - Implemented to Managed","4 to 5 - Managed to Optimized"))))) -> 2 to 3 - Defined to Implemented | E31: =COUNTIFS('EXAMPLE Self Assessment'!$E$2:$E$138,"Y",'EXAMPLE Self Assessment'!$B$2:$B$138,"Corrective / Detective")+COUNTIFS('EXAMPLE Self Assessment'!$E$2:$E$138,"Y",'EXAMPLE Self Assessment'!$B$2:$B$138,"Corrective / Preventive")+COUNTIFS('EXAMPLE Self Assessment'!$E$2:$E$138,"Y",'EXAMPLE Self Assessment'!$B$2:$B$138,"Corrective / Responsive")+COUNTIFS('EXAMPLE Self Assessment'!$E$2:$E$138,"Y",'EXAMPLE Self Assessment'!$B$2:$B$138,"Detective / Corrective")+COUNTIFS('EXAMPLE Self Assessment'!$E$2:$E$138,"Y",'EXAMPLE Self Assessment'!$B$2:$B$138,"Directive / Corrective") -> 30
B33: Scope-aware: averages include only controls marked In Scope = Y. Hybrid controls contribute to every applicable control type.
